BEGIN:VCALENDAR
VERSION:2.0
PRODID:-//会員制レッスンコミュニティ - ECPv6.15.20//NONSGML v1.0//EN
CALSCALE:GREGORIAN
METHOD:PUBLISH
X-WR-CALNAME:会員制レッスンコミュニティ
X-ORIGINAL-URL:https://7buddy.com/community
X-WR-CALDESC:会員制レッスンコミュニティ のイベント
REFRESH-INTERVAL;VALUE=DURATION:PT1H
X-Robots-Tag:noindex
X-PUBLISHED-TTL:PT1H
BEGIN:VTIMEZONE
TZID:Asia/Tokyo
BEGIN:STANDARD
TZOFFSETFROM:+0900
TZOFFSETTO:+0900
TZNAME:JST
DTSTART:20220101T000000
END:STANDARD
END:VTIMEZONE
BEGIN:VEVENT
DTSTART;TZID=Asia/Tokyo:20231204T180000
DTEND;TZID=Asia/Tokyo:20231204T230000
DTSTAMP:20260422T200009
CREATED:20230813T113500Z
LAST-MODIFIED:20230813T113851Z
UID:10000539-1701712800-1701730800@7buddy.com
SUMMARY:不安を力に変える ゆるっと哲学
DESCRIPTION:歴史上の哲学者たちは、不安の正体を明らかにする方法や、不安の正体とつき合っていく方法について、考えをめぐらせてきました。幸か不幸か、いつの時代も「人間が抱く不安の本質」は変わりません。だからこそ彼らの考えは、今なお有効なのです。
URL:https://7buddy.com/community/event/philosophy/2023-12-04/
LOCATION:アミュゼ柏\, 千葉県柏市柏６丁目２−２２\, 柏市柏６丁目２−２２\, 千葉県\, 2770005\, 日本
CATEGORIES:哲学
ATTACH;FMTTYPE=image/webp:https://7buddy.com/community/wp-content/uploads/2023/08/philosophers.webp
ORGANIZER;CN="7seconds":MAILTO:info@7seconds.jp
GEO:35.8631827;139.9758702
X-APPLE-STRUCTURED-LOCATION;VALUE=URI;X-ADDRESS=アミュゼ柏 千葉県柏市柏６丁目２−２２ 柏市柏６丁目２−２２ 千葉県 2770005 日本;X-APPLE-RADIUS=500;X-TITLE=千葉県柏市柏６丁目２−２２:geo:139.9758702,35.8631827
END:VEVENT
BEGIN:VEVENT
DTSTART;TZID=Asia/Tokyo:20231211T180000
DTEND;TZID=Asia/Tokyo:20231211T230000
DTSTAMP:20260422T200009
CREATED:20230813T113500Z
LAST-MODIFIED:20230813T113851Z
UID:10000540-1702317600-1702335600@7buddy.com
SUMMARY:不安を力に変える ゆるっと哲学
DESCRIPTION:歴史上の哲学者たちは、不安の正体を明らかにする方法や、不安の正体とつき合っていく方法について、考えをめぐらせてきました。幸か不幸か、いつの時代も「人間が抱く不安の本質」は変わりません。だからこそ彼らの考えは、今なお有効なのです。
URL:https://7buddy.com/community/event/philosophy/2023-12-11/
LOCATION:アミュゼ柏\, 千葉県柏市柏６丁目２−２２\, 柏市柏６丁目２−２２\, 千葉県\, 2770005\, 日本
CATEGORIES:哲学
ATTACH;FMTTYPE=image/webp:https://7buddy.com/community/wp-content/uploads/2023/08/philosophers.webp
ORGANIZER;CN="7seconds":MAILTO:info@7seconds.jp
GEO:35.8631827;139.9758702
X-APPLE-STRUCTURED-LOCATION;VALUE=URI;X-ADDRESS=アミュゼ柏 千葉県柏市柏６丁目２−２２ 柏市柏６丁目２−２２ 千葉県 2770005 日本;X-APPLE-RADIUS=500;X-TITLE=千葉県柏市柏６丁目２−２２:geo:139.9758702,35.8631827
END:VEVENT
BEGIN:VEVENT
DTSTART;TZID=Asia/Tokyo:20231218T180000
DTEND;TZID=Asia/Tokyo:20231218T230000
DTSTAMP:20260422T200009
CREATED:20230813T113500Z
LAST-MODIFIED:20230813T113851Z
UID:10000541-1702922400-1702940400@7buddy.com
SUMMARY:不安を力に変える ゆるっと哲学
DESCRIPTION:歴史上の哲学者たちは、不安の正体を明らかにする方法や、不安の正体とつき合っていく方法について、考えをめぐらせてきました。幸か不幸か、いつの時代も「人間が抱く不安の本質」は変わりません。だからこそ彼らの考えは、今なお有効なのです。
URL:https://7buddy.com/community/event/philosophy/2023-12-18/
LOCATION:アミュゼ柏\, 千葉県柏市柏６丁目２−２２\, 柏市柏６丁目２−２２\, 千葉県\, 2770005\, 日本
CATEGORIES:哲学
ATTACH;FMTTYPE=image/webp:https://7buddy.com/community/wp-content/uploads/2023/08/philosophers.webp
ORGANIZER;CN="7seconds":MAILTO:info@7seconds.jp
GEO:35.8631827;139.9758702
X-APPLE-STRUCTURED-LOCATION;VALUE=URI;X-ADDRESS=アミュゼ柏 千葉県柏市柏６丁目２−２２ 柏市柏６丁目２−２２ 千葉県 2770005 日本;X-APPLE-RADIUS=500;X-TITLE=千葉県柏市柏６丁目２−２２:geo:139.9758702,35.8631827
END:VEVENT
BEGIN:VEVENT
DTSTART;TZID=Asia/Tokyo:20231225T180000
DTEND;TZID=Asia/Tokyo:20231225T230000
DTSTAMP:20260422T200009
CREATED:20230813T113500Z
LAST-MODIFIED:20230813T113851Z
UID:10000542-1703527200-1703545200@7buddy.com
SUMMARY:不安を力に変える ゆるっと哲学
DESCRIPTION:歴史上の哲学者たちは、不安の正体を明らかにする方法や、不安の正体とつき合っていく方法について、考えをめぐらせてきました。幸か不幸か、いつの時代も「人間が抱く不安の本質」は変わりません。だからこそ彼らの考えは、今なお有効なのです。
URL:https://7buddy.com/community/event/philosophy/2023-12-25/
LOCATION:アミュゼ柏\, 千葉県柏市柏６丁目２−２２\, 柏市柏６丁目２−２２\, 千葉県\, 2770005\, 日本
CATEGORIES:哲学
ATTACH;FMTTYPE=image/webp:https://7buddy.com/community/wp-content/uploads/2023/08/philosophers.webp
ORGANIZER;CN="7seconds":MAILTO:info@7seconds.jp
GEO:35.8631827;139.9758702
X-APPLE-STRUCTURED-LOCATION;VALUE=URI;X-ADDRESS=アミュゼ柏 千葉県柏市柏６丁目２−２２ 柏市柏６丁目２−２２ 千葉県 2770005 日本;X-APPLE-RADIUS=500;X-TITLE=千葉県柏市柏６丁目２−２２:geo:139.9758702,35.8631827
END:VEVENT
BEGIN:VEVENT
DTSTART;TZID=Asia/Tokyo:20240101T180000
DTEND;TZID=Asia/Tokyo:20240101T230000
DTSTAMP:20260422T200009
CREATED:20230813T113500Z
LAST-MODIFIED:20230813T113851Z
UID:10000543-1704132000-1704150000@7buddy.com
SUMMARY:不安を力に変える ゆるっと哲学
DESCRIPTION:歴史上の哲学者たちは、不安の正体を明らかにする方法や、不安の正体とつき合っていく方法について、考えをめぐらせてきました。幸か不幸か、いつの時代も「人間が抱く不安の本質」は変わりません。だからこそ彼らの考えは、今なお有効なのです。
URL:https://7buddy.com/community/event/philosophy/2024-01-01/
LOCATION:アミュゼ柏\, 千葉県柏市柏６丁目２−２２\, 柏市柏６丁目２−２２\, 千葉県\, 2770005\, 日本
CATEGORIES:哲学
ATTACH;FMTTYPE=image/webp:https://7buddy.com/community/wp-content/uploads/2023/08/philosophers.webp
ORGANIZER;CN="7seconds":MAILTO:info@7seconds.jp
GEO:35.8631827;139.9758702
X-APPLE-STRUCTURED-LOCATION;VALUE=URI;X-ADDRESS=アミュゼ柏 千葉県柏市柏６丁目２−２２ 柏市柏６丁目２−２２ 千葉県 2770005 日本;X-APPLE-RADIUS=500;X-TITLE=千葉県柏市柏６丁目２−２２:geo:139.9758702,35.8631827
END:VEVENT
BEGIN:VEVENT
DTSTART;TZID=Asia/Tokyo:20240108T180000
DTEND;TZID=Asia/Tokyo:20240108T230000
DTSTAMP:20260422T200009
CREATED:20230813T113500Z
LAST-MODIFIED:20230813T113851Z
UID:10000544-1704736800-1704754800@7buddy.com
SUMMARY:不安を力に変える ゆるっと哲学
DESCRIPTION:歴史上の哲学者たちは、不安の正体を明らかにする方法や、不安の正体とつき合っていく方法について、考えをめぐらせてきました。幸か不幸か、いつの時代も「人間が抱く不安の本質」は変わりません。だからこそ彼らの考えは、今なお有効なのです。
URL:https://7buddy.com/community/event/philosophy/2024-01-08/
LOCATION:アミュゼ柏\, 千葉県柏市柏６丁目２−２２\, 柏市柏６丁目２−２２\, 千葉県\, 2770005\, 日本
CATEGORIES:哲学
ATTACH;FMTTYPE=image/webp:https://7buddy.com/community/wp-content/uploads/2023/08/philosophers.webp
ORGANIZER;CN="7seconds":MAILTO:info@7seconds.jp
GEO:35.8631827;139.9758702
X-APPLE-STRUCTURED-LOCATION;VALUE=URI;X-ADDRESS=アミュゼ柏 千葉県柏市柏６丁目２−２２ 柏市柏６丁目２−２２ 千葉県 2770005 日本;X-APPLE-RADIUS=500;X-TITLE=千葉県柏市柏６丁目２−２２:geo:139.9758702,35.8631827
END:VEVENT
BEGIN:VEVENT
DTSTART;TZID=Asia/Tokyo:20240115T180000
DTEND;TZID=Asia/Tokyo:20240115T230000
DTSTAMP:20260422T200009
CREATED:20230813T113500Z
LAST-MODIFIED:20230813T113851Z
UID:10000545-1705341600-1705359600@7buddy.com
SUMMARY:不安を力に変える ゆるっと哲学
DESCRIPTION:歴史上の哲学者たちは、不安の正体を明らかにする方法や、不安の正体とつき合っていく方法について、考えをめぐらせてきました。幸か不幸か、いつの時代も「人間が抱く不安の本質」は変わりません。だからこそ彼らの考えは、今なお有効なのです。
URL:https://7buddy.com/community/event/philosophy/2024-01-15/
LOCATION:アミュゼ柏\, 千葉県柏市柏６丁目２−２２\, 柏市柏６丁目２−２２\, 千葉県\, 2770005\, 日本
CATEGORIES:哲学
ATTACH;FMTTYPE=image/webp:https://7buddy.com/community/wp-content/uploads/2023/08/philosophers.webp
ORGANIZER;CN="7seconds":MAILTO:info@7seconds.jp
GEO:35.8631827;139.9758702
X-APPLE-STRUCTURED-LOCATION;VALUE=URI;X-ADDRESS=アミュゼ柏 千葉県柏市柏６丁目２−２２ 柏市柏６丁目２−２２ 千葉県 2770005 日本;X-APPLE-RADIUS=500;X-TITLE=千葉県柏市柏６丁目２−２２:geo:139.9758702,35.8631827
END:VEVENT
BEGIN:VEVENT
DTSTART;TZID=Asia/Tokyo:20240122T180000
DTEND;TZID=Asia/Tokyo:20240122T230000
DTSTAMP:20260422T200009
CREATED:20230813T113500Z
LAST-MODIFIED:20230813T113851Z
UID:10000546-1705946400-1705964400@7buddy.com
SUMMARY:不安を力に変える ゆるっと哲学
DESCRIPTION:歴史上の哲学者たちは、不安の正体を明らかにする方法や、不安の正体とつき合っていく方法について、考えをめぐらせてきました。幸か不幸か、いつの時代も「人間が抱く不安の本質」は変わりません。だからこそ彼らの考えは、今なお有効なのです。
URL:https://7buddy.com/community/event/philosophy/2024-01-22/
LOCATION:アミュゼ柏\, 千葉県柏市柏６丁目２−２２\, 柏市柏６丁目２−２２\, 千葉県\, 2770005\, 日本
CATEGORIES:哲学
ATTACH;FMTTYPE=image/webp:https://7buddy.com/community/wp-content/uploads/2023/08/philosophers.webp
ORGANIZER;CN="7seconds":MAILTO:info@7seconds.jp
GEO:35.8631827;139.9758702
X-APPLE-STRUCTURED-LOCATION;VALUE=URI;X-ADDRESS=アミュゼ柏 千葉県柏市柏６丁目２−２２ 柏市柏６丁目２−２２ 千葉県 2770005 日本;X-APPLE-RADIUS=500;X-TITLE=千葉県柏市柏６丁目２−２２:geo:139.9758702,35.8631827
END:VEVENT
BEGIN:VEVENT
DTSTART;TZID=Asia/Tokyo:20240129T180000
DTEND;TZID=Asia/Tokyo:20240129T230000
DTSTAMP:20260422T200009
CREATED:20230813T113500Z
LAST-MODIFIED:20230813T113851Z
UID:10000547-1706551200-1706569200@7buddy.com
SUMMARY:不安を力に変える ゆるっと哲学
DESCRIPTION:歴史上の哲学者たちは、不安の正体を明らかにする方法や、不安の正体とつき合っていく方法について、考えをめぐらせてきました。幸か不幸か、いつの時代も「人間が抱く不安の本質」は変わりません。だからこそ彼らの考えは、今なお有効なのです。
URL:https://7buddy.com/community/event/philosophy/2024-01-29/
LOCATION:アミュゼ柏\, 千葉県柏市柏６丁目２−２２\, 柏市柏６丁目２−２２\, 千葉県\, 2770005\, 日本
CATEGORIES:哲学
ATTACH;FMTTYPE=image/webp:https://7buddy.com/community/wp-content/uploads/2023/08/philosophers.webp
ORGANIZER;CN="7seconds":MAILTO:info@7seconds.jp
GEO:35.8631827;139.9758702
X-APPLE-STRUCTURED-LOCATION;VALUE=URI;X-ADDRESS=アミュゼ柏 千葉県柏市柏６丁目２−２２ 柏市柏６丁目２−２２ 千葉県 2770005 日本;X-APPLE-RADIUS=500;X-TITLE=千葉県柏市柏６丁目２−２２:geo:139.9758702,35.8631827
END:VEVENT
BEGIN:VEVENT
DTSTART;TZID=Asia/Tokyo:20240205T180000
DTEND;TZID=Asia/Tokyo:20240205T230000
DTSTAMP:20260422T200009
CREATED:20230813T113500Z
LAST-MODIFIED:20230813T113851Z
UID:10000548-1707156000-1707174000@7buddy.com
SUMMARY:不安を力に変える ゆるっと哲学
DESCRIPTION:歴史上の哲学者たちは、不安の正体を明らかにする方法や、不安の正体とつき合っていく方法について、考えをめぐらせてきました。幸か不幸か、いつの時代も「人間が抱く不安の本質」は変わりません。だからこそ彼らの考えは、今なお有効なのです。
URL:https://7buddy.com/community/event/philosophy/2024-02-05/
LOCATION:アミュゼ柏\, 千葉県柏市柏６丁目２−２２\, 柏市柏６丁目２−２２\, 千葉県\, 2770005\, 日本
CATEGORIES:哲学
ATTACH;FMTTYPE=image/webp:https://7buddy.com/community/wp-content/uploads/2023/08/philosophers.webp
ORGANIZER;CN="7seconds":MAILTO:info@7seconds.jp
GEO:35.8631827;139.9758702
X-APPLE-STRUCTURED-LOCATION;VALUE=URI;X-ADDRESS=アミュゼ柏 千葉県柏市柏６丁目２−２２ 柏市柏６丁目２−２２ 千葉県 2770005 日本;X-APPLE-RADIUS=500;X-TITLE=千葉県柏市柏６丁目２−２２:geo:139.9758702,35.8631827
END:VEVENT
BEGIN:VEVENT
DTSTART;TZID=Asia/Tokyo:20240212T180000
DTEND;TZID=Asia/Tokyo:20240212T230000
DTSTAMP:20260422T200009
CREATED:20230813T113500Z
LAST-MODIFIED:20230813T113851Z
UID:10000549-1707760800-1707778800@7buddy.com
SUMMARY:不安を力に変える ゆるっと哲学
DESCRIPTION:歴史上の哲学者たちは、不安の正体を明らかにする方法や、不安の正体とつき合っていく方法について、考えをめぐらせてきました。幸か不幸か、いつの時代も「人間が抱く不安の本質」は変わりません。だからこそ彼らの考えは、今なお有効なのです。
URL:https://7buddy.com/community/event/philosophy/2024-02-12/
LOCATION:アミュゼ柏\, 千葉県柏市柏６丁目２−２２\, 柏市柏６丁目２−２２\, 千葉県\, 2770005\, 日本
CATEGORIES:哲学
ATTACH;FMTTYPE=image/webp:https://7buddy.com/community/wp-content/uploads/2023/08/philosophers.webp
ORGANIZER;CN="7seconds":MAILTO:info@7seconds.jp
GEO:35.8631827;139.9758702
X-APPLE-STRUCTURED-LOCATION;VALUE=URI;X-ADDRESS=アミュゼ柏 千葉県柏市柏６丁目２−２２ 柏市柏６丁目２−２２ 千葉県 2770005 日本;X-APPLE-RADIUS=500;X-TITLE=千葉県柏市柏６丁目２−２２:geo:139.9758702,35.8631827
END:VEVENT
BEGIN:VEVENT
DTSTART;TZID=Asia/Tokyo:20240219T180000
DTEND;TZID=Asia/Tokyo:20240219T230000
DTSTAMP:20260422T200009
CREATED:20230813T113500Z
LAST-MODIFIED:20230813T113851Z
UID:10000550-1708365600-1708383600@7buddy.com
SUMMARY:不安を力に変える ゆるっと哲学
DESCRIPTION:歴史上の哲学者たちは、不安の正体を明らかにする方法や、不安の正体とつき合っていく方法について、考えをめぐらせてきました。幸か不幸か、いつの時代も「人間が抱く不安の本質」は変わりません。だからこそ彼らの考えは、今なお有効なのです。
URL:https://7buddy.com/community/event/philosophy/2024-02-19/
LOCATION:アミュゼ柏\, 千葉県柏市柏６丁目２−２２\, 柏市柏６丁目２−２２\, 千葉県\, 2770005\, 日本
CATEGORIES:哲学
ATTACH;FMTTYPE=image/webp:https://7buddy.com/community/wp-content/uploads/2023/08/philosophers.webp
ORGANIZER;CN="7seconds":MAILTO:info@7seconds.jp
GEO:35.8631827;139.9758702
X-APPLE-STRUCTURED-LOCATION;VALUE=URI;X-ADDRESS=アミュゼ柏 千葉県柏市柏６丁目２−２２ 柏市柏６丁目２−２２ 千葉県 2770005 日本;X-APPLE-RADIUS=500;X-TITLE=千葉県柏市柏６丁目２−２２:geo:139.9758702,35.8631827
END:VEVENT
BEGIN:VEVENT
DTSTART;TZID=Asia/Tokyo:20240226T180000
DTEND;TZID=Asia/Tokyo:20240226T230000
DTSTAMP:20260422T200009
CREATED:20230813T113500Z
LAST-MODIFIED:20230813T113851Z
UID:10000551-1708970400-1708988400@7buddy.com
SUMMARY:不安を力に変える ゆるっと哲学
DESCRIPTION:歴史上の哲学者たちは、不安の正体を明らかにする方法や、不安の正体とつき合っていく方法について、考えをめぐらせてきました。幸か不幸か、いつの時代も「人間が抱く不安の本質」は変わりません。だからこそ彼らの考えは、今なお有効なのです。
URL:https://7buddy.com/community/event/philosophy/2024-02-26/
LOCATION:アミュゼ柏\, 千葉県柏市柏６丁目２−２２\, 柏市柏６丁目２−２２\, 千葉県\, 2770005\, 日本
CATEGORIES:哲学
ATTACH;FMTTYPE=image/webp:https://7buddy.com/community/wp-content/uploads/2023/08/philosophers.webp
ORGANIZER;CN="7seconds":MAILTO:info@7seconds.jp
GEO:35.8631827;139.9758702
X-APPLE-STRUCTURED-LOCATION;VALUE=URI;X-ADDRESS=アミュゼ柏 千葉県柏市柏６丁目２−２２ 柏市柏６丁目２−２２ 千葉県 2770005 日本;X-APPLE-RADIUS=500;X-TITLE=千葉県柏市柏６丁目２−２２:geo:139.9758702,35.8631827
END:VEVENT
BEGIN:VEVENT
DTSTART;TZID=Asia/Tokyo:20240304T180000
DTEND;TZID=Asia/Tokyo:20240304T230000
DTSTAMP:20260422T200009
CREATED:20230813T113500Z
LAST-MODIFIED:20230813T113851Z
UID:10000552-1709575200-1709593200@7buddy.com
SUMMARY:不安を力に変える ゆるっと哲学
DESCRIPTION:歴史上の哲学者たちは、不安の正体を明らかにする方法や、不安の正体とつき合っていく方法について、考えをめぐらせてきました。幸か不幸か、いつの時代も「人間が抱く不安の本質」は変わりません。だからこそ彼らの考えは、今なお有効なのです。
URL:https://7buddy.com/community/event/philosophy/2024-03-04/
LOCATION:アミュゼ柏\, 千葉県柏市柏６丁目２−２２\, 柏市柏６丁目２−２２\, 千葉県\, 2770005\, 日本
CATEGORIES:哲学
ATTACH;FMTTYPE=image/webp:https://7buddy.com/community/wp-content/uploads/2023/08/philosophers.webp
ORGANIZER;CN="7seconds":MAILTO:info@7seconds.jp
GEO:35.8631827;139.9758702
X-APPLE-STRUCTURED-LOCATION;VALUE=URI;X-ADDRESS=アミュゼ柏 千葉県柏市柏６丁目２−２２ 柏市柏６丁目２−２２ 千葉県 2770005 日本;X-APPLE-RADIUS=500;X-TITLE=千葉県柏市柏６丁目２−２２:geo:139.9758702,35.8631827
END:VEVENT
BEGIN:VEVENT
DTSTART;TZID=Asia/Tokyo:20240311T180000
DTEND;TZID=Asia/Tokyo:20240311T230000
DTSTAMP:20260422T200009
CREATED:20230813T113500Z
LAST-MODIFIED:20230813T113851Z
UID:10000553-1710180000-1710198000@7buddy.com
SUMMARY:不安を力に変える ゆるっと哲学
DESCRIPTION:歴史上の哲学者たちは、不安の正体を明らかにする方法や、不安の正体とつき合っていく方法について、考えをめぐらせてきました。幸か不幸か、いつの時代も「人間が抱く不安の本質」は変わりません。だからこそ彼らの考えは、今なお有効なのです。
URL:https://7buddy.com/community/event/philosophy/2024-03-11/
LOCATION:アミュゼ柏\, 千葉県柏市柏６丁目２−２２\, 柏市柏６丁目２−２２\, 千葉県\, 2770005\, 日本
CATEGORIES:哲学
ATTACH;FMTTYPE=image/webp:https://7buddy.com/community/wp-content/uploads/2023/08/philosophers.webp
ORGANIZER;CN="7seconds":MAILTO:info@7seconds.jp
GEO:35.8631827;139.9758702
X-APPLE-STRUCTURED-LOCATION;VALUE=URI;X-ADDRESS=アミュゼ柏 千葉県柏市柏６丁目２−２２ 柏市柏６丁目２−２２ 千葉県 2770005 日本;X-APPLE-RADIUS=500;X-TITLE=千葉県柏市柏６丁目２−２２:geo:139.9758702,35.8631827
END:VEVENT
BEGIN:VEVENT
DTSTART;TZID=Asia/Tokyo:20240318T180000
DTEND;TZID=Asia/Tokyo:20240318T230000
DTSTAMP:20260422T200009
CREATED:20230813T113500Z
LAST-MODIFIED:20230813T113851Z
UID:10000554-1710784800-1710802800@7buddy.com
SUMMARY:不安を力に変える ゆるっと哲学
DESCRIPTION:歴史上の哲学者たちは、不安の正体を明らかにする方法や、不安の正体とつき合っていく方法について、考えをめぐらせてきました。幸か不幸か、いつの時代も「人間が抱く不安の本質」は変わりません。だからこそ彼らの考えは、今なお有効なのです。
URL:https://7buddy.com/community/event/philosophy/2024-03-18/
LOCATION:アミュゼ柏\, 千葉県柏市柏６丁目２−２２\, 柏市柏６丁目２−２２\, 千葉県\, 2770005\, 日本
CATEGORIES:哲学
ATTACH;FMTTYPE=image/webp:https://7buddy.com/community/wp-content/uploads/2023/08/philosophers.webp
ORGANIZER;CN="7seconds":MAILTO:info@7seconds.jp
GEO:35.8631827;139.9758702
X-APPLE-STRUCTURED-LOCATION;VALUE=URI;X-ADDRESS=アミュゼ柏 千葉県柏市柏６丁目２−２２ 柏市柏６丁目２−２２ 千葉県 2770005 日本;X-APPLE-RADIUS=500;X-TITLE=千葉県柏市柏６丁目２−２２:geo:139.9758702,35.8631827
END:VEVENT
BEGIN:VEVENT
DTSTART;TZID=Asia/Tokyo:20240325T180000
DTEND;TZID=Asia/Tokyo:20240325T230000
DTSTAMP:20260422T200009
CREATED:20230813T113500Z
LAST-MODIFIED:20230813T113851Z
UID:10000555-1711389600-1711407600@7buddy.com
SUMMARY:不安を力に変える ゆるっと哲学
DESCRIPTION:歴史上の哲学者たちは、不安の正体を明らかにする方法や、不安の正体とつき合っていく方法について、考えをめぐらせてきました。幸か不幸か、いつの時代も「人間が抱く不安の本質」は変わりません。だからこそ彼らの考えは、今なお有効なのです。
URL:https://7buddy.com/community/event/philosophy/2024-03-25/
LOCATION:アミュゼ柏\, 千葉県柏市柏６丁目２−２２\, 柏市柏６丁目２−２２\, 千葉県\, 2770005\, 日本
CATEGORIES:哲学
ATTACH;FMTTYPE=image/webp:https://7buddy.com/community/wp-content/uploads/2023/08/philosophers.webp
ORGANIZER;CN="7seconds":MAILTO:info@7seconds.jp
GEO:35.8631827;139.9758702
X-APPLE-STRUCTURED-LOCATION;VALUE=URI;X-ADDRESS=アミュゼ柏 千葉県柏市柏６丁目２−２２ 柏市柏６丁目２−２２ 千葉県 2770005 日本;X-APPLE-RADIUS=500;X-TITLE=千葉県柏市柏６丁目２−２２:geo:139.9758702,35.8631827
END:VEVENT
BEGIN:VEVENT
DTSTART;TZID=Asia/Tokyo:20240401T180000
DTEND;TZID=Asia/Tokyo:20240401T230000
DTSTAMP:20260422T200009
CREATED:20230813T113500Z
LAST-MODIFIED:20230813T113851Z
UID:10000556-1711994400-1712012400@7buddy.com
SUMMARY:不安を力に変える ゆるっと哲学
DESCRIPTION:歴史上の哲学者たちは、不安の正体を明らかにする方法や、不安の正体とつき合っていく方法について、考えをめぐらせてきました。幸か不幸か、いつの時代も「人間が抱く不安の本質」は変わりません。だからこそ彼らの考えは、今なお有効なのです。
URL:https://7buddy.com/community/event/philosophy/2024-04-01/
LOCATION:アミュゼ柏\, 千葉県柏市柏６丁目２−２２\, 柏市柏６丁目２−２２\, 千葉県\, 2770005\, 日本
CATEGORIES:哲学
ATTACH;FMTTYPE=image/webp:https://7buddy.com/community/wp-content/uploads/2023/08/philosophers.webp
ORGANIZER;CN="7seconds":MAILTO:info@7seconds.jp
GEO:35.8631827;139.9758702
X-APPLE-STRUCTURED-LOCATION;VALUE=URI;X-ADDRESS=アミュゼ柏 千葉県柏市柏６丁目２−２２ 柏市柏６丁目２−２２ 千葉県 2770005 日本;X-APPLE-RADIUS=500;X-TITLE=千葉県柏市柏６丁目２−２２:geo:139.9758702,35.8631827
END:VEVENT
BEGIN:VEVENT
DTSTART;TZID=Asia/Tokyo:20240408T180000
DTEND;TZID=Asia/Tokyo:20240408T230000
DTSTAMP:20260422T200009
CREATED:20230813T113500Z
LAST-MODIFIED:20230813T113851Z
UID:10000557-1712599200-1712617200@7buddy.com
SUMMARY:不安を力に変える ゆるっと哲学
DESCRIPTION:歴史上の哲学者たちは、不安の正体を明らかにする方法や、不安の正体とつき合っていく方法について、考えをめぐらせてきました。幸か不幸か、いつの時代も「人間が抱く不安の本質」は変わりません。だからこそ彼らの考えは、今なお有効なのです。
URL:https://7buddy.com/community/event/philosophy/2024-04-08/
LOCATION:アミュゼ柏\, 千葉県柏市柏６丁目２−２２\, 柏市柏６丁目２−２２\, 千葉県\, 2770005\, 日本
CATEGORIES:哲学
ATTACH;FMTTYPE=image/webp:https://7buddy.com/community/wp-content/uploads/2023/08/philosophers.webp
ORGANIZER;CN="7seconds":MAILTO:info@7seconds.jp
GEO:35.8631827;139.9758702
X-APPLE-STRUCTURED-LOCATION;VALUE=URI;X-ADDRESS=アミュゼ柏 千葉県柏市柏６丁目２−２２ 柏市柏６丁目２−２２ 千葉県 2770005 日本;X-APPLE-RADIUS=500;X-TITLE=千葉県柏市柏６丁目２−２２:geo:139.9758702,35.8631827
END:VEVENT
BEGIN:VEVENT
DTSTART;TZID=Asia/Tokyo:20240415T180000
DTEND;TZID=Asia/Tokyo:20240415T230000
DTSTAMP:20260422T200009
CREATED:20230813T113500Z
LAST-MODIFIED:20230813T113851Z
UID:10000558-1713204000-1713222000@7buddy.com
SUMMARY:不安を力に変える ゆるっと哲学
DESCRIPTION:歴史上の哲学者たちは、不安の正体を明らかにする方法や、不安の正体とつき合っていく方法について、考えをめぐらせてきました。幸か不幸か、いつの時代も「人間が抱く不安の本質」は変わりません。だからこそ彼らの考えは、今なお有効なのです。
URL:https://7buddy.com/community/event/philosophy/2024-04-15/
LOCATION:アミュゼ柏\, 千葉県柏市柏６丁目２−２２\, 柏市柏６丁目２−２２\, 千葉県\, 2770005\, 日本
CATEGORIES:哲学
ATTACH;FMTTYPE=image/webp:https://7buddy.com/community/wp-content/uploads/2023/08/philosophers.webp
ORGANIZER;CN="7seconds":MAILTO:info@7seconds.jp
GEO:35.8631827;139.9758702
X-APPLE-STRUCTURED-LOCATION;VALUE=URI;X-ADDRESS=アミュゼ柏 千葉県柏市柏６丁目２−２２ 柏市柏６丁目２−２２ 千葉県 2770005 日本;X-APPLE-RADIUS=500;X-TITLE=千葉県柏市柏６丁目２−２２:geo:139.9758702,35.8631827
END:VEVENT
BEGIN:VEVENT
DTSTART;TZID=Asia/Tokyo:20240422T180000
DTEND;TZID=Asia/Tokyo:20240422T230000
DTSTAMP:20260422T200009
CREATED:20230813T113500Z
LAST-MODIFIED:20230813T113851Z
UID:10000559-1713808800-1713826800@7buddy.com
SUMMARY:不安を力に変える ゆるっと哲学
DESCRIPTION:歴史上の哲学者たちは、不安の正体を明らかにする方法や、不安の正体とつき合っていく方法について、考えをめぐらせてきました。幸か不幸か、いつの時代も「人間が抱く不安の本質」は変わりません。だからこそ彼らの考えは、今なお有効なのです。
URL:https://7buddy.com/community/event/philosophy/2024-04-22/
LOCATION:アミュゼ柏\, 千葉県柏市柏６丁目２−２２\, 柏市柏６丁目２−２２\, 千葉県\, 2770005\, 日本
CATEGORIES:哲学
ATTACH;FMTTYPE=image/webp:https://7buddy.com/community/wp-content/uploads/2023/08/philosophers.webp
ORGANIZER;CN="7seconds":MAILTO:info@7seconds.jp
GEO:35.8631827;139.9758702
X-APPLE-STRUCTURED-LOCATION;VALUE=URI;X-ADDRESS=アミュゼ柏 千葉県柏市柏６丁目２−２２ 柏市柏６丁目２−２２ 千葉県 2770005 日本;X-APPLE-RADIUS=500;X-TITLE=千葉県柏市柏６丁目２−２２:geo:139.9758702,35.8631827
END:VEVENT
BEGIN:VEVENT
DTSTART;TZID=Asia/Tokyo:20240429T180000
DTEND;TZID=Asia/Tokyo:20240429T230000
DTSTAMP:20260422T200009
CREATED:20230813T113500Z
LAST-MODIFIED:20230813T113851Z
UID:10000560-1714413600-1714431600@7buddy.com
SUMMARY:不安を力に変える ゆるっと哲学
DESCRIPTION:歴史上の哲学者たちは、不安の正体を明らかにする方法や、不安の正体とつき合っていく方法について、考えをめぐらせてきました。幸か不幸か、いつの時代も「人間が抱く不安の本質」は変わりません。だからこそ彼らの考えは、今なお有効なのです。
URL:https://7buddy.com/community/event/philosophy/2024-04-29/
LOCATION:アミュゼ柏\, 千葉県柏市柏６丁目２−２２\, 柏市柏６丁目２−２２\, 千葉県\, 2770005\, 日本
CATEGORIES:哲学
ATTACH;FMTTYPE=image/webp:https://7buddy.com/community/wp-content/uploads/2023/08/philosophers.webp
ORGANIZER;CN="7seconds":MAILTO:info@7seconds.jp
GEO:35.8631827;139.9758702
X-APPLE-STRUCTURED-LOCATION;VALUE=URI;X-ADDRESS=アミュゼ柏 千葉県柏市柏６丁目２−２２ 柏市柏６丁目２−２２ 千葉県 2770005 日本;X-APPLE-RADIUS=500;X-TITLE=千葉県柏市柏６丁目２−２２:geo:139.9758702,35.8631827
END:VEVENT
BEGIN:VEVENT
DTSTART;TZID=Asia/Tokyo:20240506T180000
DTEND;TZID=Asia/Tokyo:20240506T230000
DTSTAMP:20260422T200009
CREATED:20230813T113500Z
LAST-MODIFIED:20230813T113851Z
UID:10000561-1715018400-1715036400@7buddy.com
SUMMARY:不安を力に変える ゆるっと哲学
DESCRIPTION:歴史上の哲学者たちは、不安の正体を明らかにする方法や、不安の正体とつき合っていく方法について、考えをめぐらせてきました。幸か不幸か、いつの時代も「人間が抱く不安の本質」は変わりません。だからこそ彼らの考えは、今なお有効なのです。
URL:https://7buddy.com/community/event/philosophy/2024-05-06/
LOCATION:アミュゼ柏\, 千葉県柏市柏６丁目２−２２\, 柏市柏６丁目２−２２\, 千葉県\, 2770005\, 日本
CATEGORIES:哲学
ATTACH;FMTTYPE=image/webp:https://7buddy.com/community/wp-content/uploads/2023/08/philosophers.webp
ORGANIZER;CN="7seconds":MAILTO:info@7seconds.jp
GEO:35.8631827;139.9758702
X-APPLE-STRUCTURED-LOCATION;VALUE=URI;X-ADDRESS=アミュゼ柏 千葉県柏市柏６丁目２−２２ 柏市柏６丁目２−２２ 千葉県 2770005 日本;X-APPLE-RADIUS=500;X-TITLE=千葉県柏市柏６丁目２−２２:geo:139.9758702,35.8631827
END:VEVENT
BEGIN:VEVENT
DTSTART;TZID=Asia/Tokyo:20240513T180000
DTEND;TZID=Asia/Tokyo:20240513T230000
DTSTAMP:20260422T200009
CREATED:20230813T113500Z
LAST-MODIFIED:20230813T113851Z
UID:10000562-1715623200-1715641200@7buddy.com
SUMMARY:不安を力に変える ゆるっと哲学
DESCRIPTION:歴史上の哲学者たちは、不安の正体を明らかにする方法や、不安の正体とつき合っていく方法について、考えをめぐらせてきました。幸か不幸か、いつの時代も「人間が抱く不安の本質」は変わりません。だからこそ彼らの考えは、今なお有効なのです。
URL:https://7buddy.com/community/event/philosophy/2024-05-13/
LOCATION:アミュゼ柏\, 千葉県柏市柏６丁目２−２２\, 柏市柏６丁目２−２２\, 千葉県\, 2770005\, 日本
CATEGORIES:哲学
ATTACH;FMTTYPE=image/webp:https://7buddy.com/community/wp-content/uploads/2023/08/philosophers.webp
ORGANIZER;CN="7seconds":MAILTO:info@7seconds.jp
GEO:35.8631827;139.9758702
X-APPLE-STRUCTURED-LOCATION;VALUE=URI;X-ADDRESS=アミュゼ柏 千葉県柏市柏６丁目２−２２ 柏市柏６丁目２−２２ 千葉県 2770005 日本;X-APPLE-RADIUS=500;X-TITLE=千葉県柏市柏６丁目２−２２:geo:139.9758702,35.8631827
END:VEVENT
BEGIN:VEVENT
DTSTART;TZID=Asia/Tokyo:20240520T180000
DTEND;TZID=Asia/Tokyo:20240520T230000
DTSTAMP:20260422T200009
CREATED:20230813T113500Z
LAST-MODIFIED:20230813T113851Z
UID:10000563-1716228000-1716246000@7buddy.com
SUMMARY:不安を力に変える ゆるっと哲学
DESCRIPTION:歴史上の哲学者たちは、不安の正体を明らかにする方法や、不安の正体とつき合っていく方法について、考えをめぐらせてきました。幸か不幸か、いつの時代も「人間が抱く不安の本質」は変わりません。だからこそ彼らの考えは、今なお有効なのです。
URL:https://7buddy.com/community/event/philosophy/2024-05-20/
LOCATION:アミュゼ柏\, 千葉県柏市柏６丁目２−２２\, 柏市柏６丁目２−２２\, 千葉県\, 2770005\, 日本
CATEGORIES:哲学
ATTACH;FMTTYPE=image/webp:https://7buddy.com/community/wp-content/uploads/2023/08/philosophers.webp
ORGANIZER;CN="7seconds":MAILTO:info@7seconds.jp
GEO:35.8631827;139.9758702
X-APPLE-STRUCTURED-LOCATION;VALUE=URI;X-ADDRESS=アミュゼ柏 千葉県柏市柏６丁目２−２２ 柏市柏６丁目２−２２ 千葉県 2770005 日本;X-APPLE-RADIUS=500;X-TITLE=千葉県柏市柏６丁目２−２２:geo:139.9758702,35.8631827
END:VEVENT
BEGIN:VEVENT
DTSTART;TZID=Asia/Tokyo:20240527T180000
DTEND;TZID=Asia/Tokyo:20240527T230000
DTSTAMP:20260422T200009
CREATED:20230813T113500Z
LAST-MODIFIED:20230813T113851Z
UID:10000564-1716832800-1716850800@7buddy.com
SUMMARY:不安を力に変える ゆるっと哲学
DESCRIPTION:歴史上の哲学者たちは、不安の正体を明らかにする方法や、不安の正体とつき合っていく方法について、考えをめぐらせてきました。幸か不幸か、いつの時代も「人間が抱く不安の本質」は変わりません。だからこそ彼らの考えは、今なお有効なのです。
URL:https://7buddy.com/community/event/philosophy/2024-05-27/
LOCATION:アミュゼ柏\, 千葉県柏市柏６丁目２−２２\, 柏市柏６丁目２−２２\, 千葉県\, 2770005\, 日本
CATEGORIES:哲学
ATTACH;FMTTYPE=image/webp:https://7buddy.com/community/wp-content/uploads/2023/08/philosophers.webp
ORGANIZER;CN="7seconds":MAILTO:info@7seconds.jp
GEO:35.8631827;139.9758702
X-APPLE-STRUCTURED-LOCATION;VALUE=URI;X-ADDRESS=アミュゼ柏 千葉県柏市柏６丁目２−２２ 柏市柏６丁目２−２２ 千葉県 2770005 日本;X-APPLE-RADIUS=500;X-TITLE=千葉県柏市柏６丁目２−２２:geo:139.9758702,35.8631827
END:VEVENT
BEGIN:VEVENT
DTSTART;TZID=Asia/Tokyo:20240603T180000
DTEND;TZID=Asia/Tokyo:20240603T230000
DTSTAMP:20260422T200009
CREATED:20230813T113500Z
LAST-MODIFIED:20230813T113851Z
UID:10000565-1717437600-1717455600@7buddy.com
SUMMARY:不安を力に変える ゆるっと哲学
DESCRIPTION:歴史上の哲学者たちは、不安の正体を明らかにする方法や、不安の正体とつき合っていく方法について、考えをめぐらせてきました。幸か不幸か、いつの時代も「人間が抱く不安の本質」は変わりません。だからこそ彼らの考えは、今なお有効なのです。
URL:https://7buddy.com/community/event/philosophy/2024-06-03/
LOCATION:アミュゼ柏\, 千葉県柏市柏６丁目２−２２\, 柏市柏６丁目２−２２\, 千葉県\, 2770005\, 日本
CATEGORIES:哲学
ATTACH;FMTTYPE=image/webp:https://7buddy.com/community/wp-content/uploads/2023/08/philosophers.webp
ORGANIZER;CN="7seconds":MAILTO:info@7seconds.jp
GEO:35.8631827;139.9758702
X-APPLE-STRUCTURED-LOCATION;VALUE=URI;X-ADDRESS=アミュゼ柏 千葉県柏市柏６丁目２−２２ 柏市柏６丁目２−２２ 千葉県 2770005 日本;X-APPLE-RADIUS=500;X-TITLE=千葉県柏市柏６丁目２−２２:geo:139.9758702,35.8631827
END:VEVENT
BEGIN:VEVENT
DTSTART;TZID=Asia/Tokyo:20240610T180000
DTEND;TZID=Asia/Tokyo:20240610T230000
DTSTAMP:20260422T200009
CREATED:20230813T113500Z
LAST-MODIFIED:20230813T113851Z
UID:10000566-1718042400-1718060400@7buddy.com
SUMMARY:不安を力に変える ゆるっと哲学
DESCRIPTION:歴史上の哲学者たちは、不安の正体を明らかにする方法や、不安の正体とつき合っていく方法について、考えをめぐらせてきました。幸か不幸か、いつの時代も「人間が抱く不安の本質」は変わりません。だからこそ彼らの考えは、今なお有効なのです。
URL:https://7buddy.com/community/event/philosophy/2024-06-10/
LOCATION:アミュゼ柏\, 千葉県柏市柏６丁目２−２２\, 柏市柏６丁目２−２２\, 千葉県\, 2770005\, 日本
CATEGORIES:哲学
ATTACH;FMTTYPE=image/webp:https://7buddy.com/community/wp-content/uploads/2023/08/philosophers.webp
ORGANIZER;CN="7seconds":MAILTO:info@7seconds.jp
GEO:35.8631827;139.9758702
X-APPLE-STRUCTURED-LOCATION;VALUE=URI;X-ADDRESS=アミュゼ柏 千葉県柏市柏６丁目２−２２ 柏市柏６丁目２−２２ 千葉県 2770005 日本;X-APPLE-RADIUS=500;X-TITLE=千葉県柏市柏６丁目２−２２:geo:139.9758702,35.8631827
END:VEVENT
BEGIN:VEVENT
DTSTART;TZID=Asia/Tokyo:20240617T180000
DTEND;TZID=Asia/Tokyo:20240617T230000
DTSTAMP:20260422T200009
CREATED:20230813T113500Z
LAST-MODIFIED:20230813T113851Z
UID:10000567-1718647200-1718665200@7buddy.com
SUMMARY:不安を力に変える ゆるっと哲学
DESCRIPTION:歴史上の哲学者たちは、不安の正体を明らかにする方法や、不安の正体とつき合っていく方法について、考えをめぐらせてきました。幸か不幸か、いつの時代も「人間が抱く不安の本質」は変わりません。だからこそ彼らの考えは、今なお有効なのです。
URL:https://7buddy.com/community/event/philosophy/2024-06-17/
LOCATION:アミュゼ柏\, 千葉県柏市柏６丁目２−２２\, 柏市柏６丁目２−２２\, 千葉県\, 2770005\, 日本
CATEGORIES:哲学
ATTACH;FMTTYPE=image/webp:https://7buddy.com/community/wp-content/uploads/2023/08/philosophers.webp
ORGANIZER;CN="7seconds":MAILTO:info@7seconds.jp
GEO:35.8631827;139.9758702
X-APPLE-STRUCTURED-LOCATION;VALUE=URI;X-ADDRESS=アミュゼ柏 千葉県柏市柏６丁目２−２２ 柏市柏６丁目２−２２ 千葉県 2770005 日本;X-APPLE-RADIUS=500;X-TITLE=千葉県柏市柏６丁目２−２２:geo:139.9758702,35.8631827
END:VEVENT
BEGIN:VEVENT
DTSTART;TZID=Asia/Tokyo:20240624T180000
DTEND;TZID=Asia/Tokyo:20240624T230000
DTSTAMP:20260422T200009
CREATED:20230813T113500Z
LAST-MODIFIED:20230813T113851Z
UID:10000568-1719252000-1719270000@7buddy.com
SUMMARY:不安を力に変える ゆるっと哲学
DESCRIPTION:歴史上の哲学者たちは、不安の正体を明らかにする方法や、不安の正体とつき合っていく方法について、考えをめぐらせてきました。幸か不幸か、いつの時代も「人間が抱く不安の本質」は変わりません。だからこそ彼らの考えは、今なお有効なのです。
URL:https://7buddy.com/community/event/philosophy/2024-06-24/
LOCATION:アミュゼ柏\, 千葉県柏市柏６丁目２−２２\, 柏市柏６丁目２−２２\, 千葉県\, 2770005\, 日本
CATEGORIES:哲学
ATTACH;FMTTYPE=image/webp:https://7buddy.com/community/wp-content/uploads/2023/08/philosophers.webp
ORGANIZER;CN="7seconds":MAILTO:info@7seconds.jp
GEO:35.8631827;139.9758702
X-APPLE-STRUCTURED-LOCATION;VALUE=URI;X-ADDRESS=アミュゼ柏 千葉県柏市柏６丁目２−２２ 柏市柏６丁目２−２２ 千葉県 2770005 日本;X-APPLE-RADIUS=500;X-TITLE=千葉県柏市柏６丁目２−２２:geo:139.9758702,35.8631827
END:VEVENT
END:VCALENDAR