BEGIN:VCALENDAR
VERSION:2.0
PRODID:-//会員制レッスンコミュニティ - ECPv6.15.20//NONSGML v1.0//EN
CALSCALE:GREGORIAN
METHOD:PUBLISH
X-ORIGINAL-URL:https://7buddy.com/community
X-WR-CALDESC:会員制レッスンコミュニティ のイベント
REFRESH-INTERVAL;VALUE=DURATION:PT1H
X-Robots-Tag:noindex
X-PUBLISHED-TTL:PT1H
BEGIN:VTIMEZONE
TZID:Asia/Tokyo
BEGIN:STANDARD
TZOFFSETFROM:+0900
TZOFFSETTO:+0900
TZNAME:JST
DTSTART:20240101T000000
END:STANDARD
END:VTIMEZONE
BEGIN:VEVENT
DTSTART;TZID=Asia/Tokyo:20251003T180000
DTEND;TZID=Asia/Tokyo:20251003T220000
DTSTAMP:20260420T094923
CREATED:20230812T150641Z
LAST-MODIFIED:20230812T150641Z
UID:10000224-1759514400-1759528800@7buddy.com
SUMMARY:アドラー心理学に学ぶ「悩みを解消する“承認欲求との向き合い方”」
DESCRIPTION:アドラー心理学から、承認欲求の問題点と、人間関係の悩みを解消できる「適切な承認欲求との向き合い方」を学べる勉強会です
URL:https://7buddy.com/community/event/ad01/2025-10-03/
LOCATION:アミュゼ柏\, 千葉県柏市柏６丁目２−２２\, 柏市柏６丁目２−２２\, 千葉県\, 2770005\, 日本
CATEGORIES:心理学
ATTACH;FMTTYPE=image/jpeg:https://7buddy.com/community/wp-content/uploads/2023/08/1_DIpg-kS0ZbdJ9XxThTp4kw.jpg
ORGANIZER;CN="7seconds":MAILTO:info@7seconds.jp
GEO:35.8631827;139.9758702
X-APPLE-STRUCTURED-LOCATION;VALUE=URI;X-ADDRESS=アミュゼ柏 千葉県柏市柏６丁目２−２２ 柏市柏６丁目２−２２ 千葉県 2770005 日本;X-APPLE-RADIUS=500;X-TITLE=千葉県柏市柏６丁目２−２２:geo:139.9758702,35.8631827
END:VEVENT
BEGIN:VEVENT
DTSTART;TZID=Asia/Tokyo:20251007T180000
DTEND;TZID=Asia/Tokyo:20251007T220000
DTSTAMP:20260420T094923
CREATED:20230812T150641Z
LAST-MODIFIED:20230812T150641Z
UID:10000225-1759860000-1759874400@7buddy.com
SUMMARY:アドラー心理学に学ぶ「悩みを解消する“承認欲求との向き合い方”」
DESCRIPTION:アドラー心理学から、承認欲求の問題点と、人間関係の悩みを解消できる「適切な承認欲求との向き合い方」を学べる勉強会です
URL:https://7buddy.com/community/event/ad01/2025-10-07/
LOCATION:アミュゼ柏\, 千葉県柏市柏６丁目２−２２\, 柏市柏６丁目２−２２\, 千葉県\, 2770005\, 日本
CATEGORIES:心理学
ATTACH;FMTTYPE=image/jpeg:https://7buddy.com/community/wp-content/uploads/2023/08/1_DIpg-kS0ZbdJ9XxThTp4kw.jpg
ORGANIZER;CN="7seconds":MAILTO:info@7seconds.jp
GEO:35.8631827;139.9758702
X-APPLE-STRUCTURED-LOCATION;VALUE=URI;X-ADDRESS=アミュゼ柏 千葉県柏市柏６丁目２−２２ 柏市柏６丁目２−２２ 千葉県 2770005 日本;X-APPLE-RADIUS=500;X-TITLE=千葉県柏市柏６丁目２−２２:geo:139.9758702,35.8631827
END:VEVENT
BEGIN:VEVENT
DTSTART;TZID=Asia/Tokyo:20251010T180000
DTEND;TZID=Asia/Tokyo:20251010T220000
DTSTAMP:20260420T094923
CREATED:20230812T150641Z
LAST-MODIFIED:20230812T150641Z
UID:10000226-1760119200-1760133600@7buddy.com
SUMMARY:アドラー心理学に学ぶ「悩みを解消する“承認欲求との向き合い方”」
DESCRIPTION:アドラー心理学から、承認欲求の問題点と、人間関係の悩みを解消できる「適切な承認欲求との向き合い方」を学べる勉強会です
URL:https://7buddy.com/community/event/ad01/2025-10-10/
LOCATION:アミュゼ柏\, 千葉県柏市柏６丁目２−２２\, 柏市柏６丁目２−２２\, 千葉県\, 2770005\, 日本
CATEGORIES:心理学
ATTACH;FMTTYPE=image/jpeg:https://7buddy.com/community/wp-content/uploads/2023/08/1_DIpg-kS0ZbdJ9XxThTp4kw.jpg
ORGANIZER;CN="7seconds":MAILTO:info@7seconds.jp
GEO:35.8631827;139.9758702
X-APPLE-STRUCTURED-LOCATION;VALUE=URI;X-ADDRESS=アミュゼ柏 千葉県柏市柏６丁目２−２２ 柏市柏６丁目２−２２ 千葉県 2770005 日本;X-APPLE-RADIUS=500;X-TITLE=千葉県柏市柏６丁目２−２２:geo:139.9758702,35.8631827
END:VEVENT
BEGIN:VEVENT
DTSTART;TZID=Asia/Tokyo:20251014T180000
DTEND;TZID=Asia/Tokyo:20251014T220000
DTSTAMP:20260420T094923
CREATED:20230812T150641Z
LAST-MODIFIED:20230812T150641Z
UID:10000227-1760464800-1760479200@7buddy.com
SUMMARY:アドラー心理学に学ぶ「悩みを解消する“承認欲求との向き合い方”」
DESCRIPTION:アドラー心理学から、承認欲求の問題点と、人間関係の悩みを解消できる「適切な承認欲求との向き合い方」を学べる勉強会です
URL:https://7buddy.com/community/event/ad01/2025-10-14/
LOCATION:アミュゼ柏\, 千葉県柏市柏６丁目２−２２\, 柏市柏６丁目２−２２\, 千葉県\, 2770005\, 日本
CATEGORIES:心理学
ATTACH;FMTTYPE=image/jpeg:https://7buddy.com/community/wp-content/uploads/2023/08/1_DIpg-kS0ZbdJ9XxThTp4kw.jpg
ORGANIZER;CN="7seconds":MAILTO:info@7seconds.jp
GEO:35.8631827;139.9758702
X-APPLE-STRUCTURED-LOCATION;VALUE=URI;X-ADDRESS=アミュゼ柏 千葉県柏市柏６丁目２−２２ 柏市柏６丁目２−２２ 千葉県 2770005 日本;X-APPLE-RADIUS=500;X-TITLE=千葉県柏市柏６丁目２−２２:geo:139.9758702,35.8631827
END:VEVENT
BEGIN:VEVENT
DTSTART;TZID=Asia/Tokyo:20251017T180000
DTEND;TZID=Asia/Tokyo:20251017T220000
DTSTAMP:20260420T094923
CREATED:20230812T150641Z
LAST-MODIFIED:20230812T150641Z
UID:10000228-1760724000-1760738400@7buddy.com
SUMMARY:アドラー心理学に学ぶ「悩みを解消する“承認欲求との向き合い方”」
DESCRIPTION:アドラー心理学から、承認欲求の問題点と、人間関係の悩みを解消できる「適切な承認欲求との向き合い方」を学べる勉強会です
URL:https://7buddy.com/community/event/ad01/2025-10-17/
LOCATION:アミュゼ柏\, 千葉県柏市柏６丁目２−２２\, 柏市柏６丁目２−２２\, 千葉県\, 2770005\, 日本
CATEGORIES:心理学
ATTACH;FMTTYPE=image/jpeg:https://7buddy.com/community/wp-content/uploads/2023/08/1_DIpg-kS0ZbdJ9XxThTp4kw.jpg
ORGANIZER;CN="7seconds":MAILTO:info@7seconds.jp
GEO:35.8631827;139.9758702
X-APPLE-STRUCTURED-LOCATION;VALUE=URI;X-ADDRESS=アミュゼ柏 千葉県柏市柏６丁目２−２２ 柏市柏６丁目２−２２ 千葉県 2770005 日本;X-APPLE-RADIUS=500;X-TITLE=千葉県柏市柏６丁目２−２２:geo:139.9758702,35.8631827
END:VEVENT
BEGIN:VEVENT
DTSTART;TZID=Asia/Tokyo:20251021T180000
DTEND;TZID=Asia/Tokyo:20251021T220000
DTSTAMP:20260420T094923
CREATED:20230812T150641Z
LAST-MODIFIED:20230812T150641Z
UID:10000229-1761069600-1761084000@7buddy.com
SUMMARY:アドラー心理学に学ぶ「悩みを解消する“承認欲求との向き合い方”」
DESCRIPTION:アドラー心理学から、承認欲求の問題点と、人間関係の悩みを解消できる「適切な承認欲求との向き合い方」を学べる勉強会です
URL:https://7buddy.com/community/event/ad01/2025-10-21/
LOCATION:アミュゼ柏\, 千葉県柏市柏６丁目２−２２\, 柏市柏６丁目２−２２\, 千葉県\, 2770005\, 日本
CATEGORIES:心理学
ATTACH;FMTTYPE=image/jpeg:https://7buddy.com/community/wp-content/uploads/2023/08/1_DIpg-kS0ZbdJ9XxThTp4kw.jpg
ORGANIZER;CN="7seconds":MAILTO:info@7seconds.jp
GEO:35.8631827;139.9758702
X-APPLE-STRUCTURED-LOCATION;VALUE=URI;X-ADDRESS=アミュゼ柏 千葉県柏市柏６丁目２−２２ 柏市柏６丁目２−２２ 千葉県 2770005 日本;X-APPLE-RADIUS=500;X-TITLE=千葉県柏市柏６丁目２−２２:geo:139.9758702,35.8631827
END:VEVENT
BEGIN:VEVENT
DTSTART;TZID=Asia/Tokyo:20251024T180000
DTEND;TZID=Asia/Tokyo:20251024T220000
DTSTAMP:20260420T094923
CREATED:20230812T150641Z
LAST-MODIFIED:20230812T150641Z
UID:10000230-1761328800-1761343200@7buddy.com
SUMMARY:アドラー心理学に学ぶ「悩みを解消する“承認欲求との向き合い方”」
DESCRIPTION:アドラー心理学から、承認欲求の問題点と、人間関係の悩みを解消できる「適切な承認欲求との向き合い方」を学べる勉強会です
URL:https://7buddy.com/community/event/ad01/2025-10-24/
LOCATION:アミュゼ柏\, 千葉県柏市柏６丁目２−２２\, 柏市柏６丁目２−２２\, 千葉県\, 2770005\, 日本
CATEGORIES:心理学
ATTACH;FMTTYPE=image/jpeg:https://7buddy.com/community/wp-content/uploads/2023/08/1_DIpg-kS0ZbdJ9XxThTp4kw.jpg
ORGANIZER;CN="7seconds":MAILTO:info@7seconds.jp
GEO:35.8631827;139.9758702
X-APPLE-STRUCTURED-LOCATION;VALUE=URI;X-ADDRESS=アミュゼ柏 千葉県柏市柏６丁目２−２２ 柏市柏６丁目２−２２ 千葉県 2770005 日本;X-APPLE-RADIUS=500;X-TITLE=千葉県柏市柏６丁目２−２２:geo:139.9758702,35.8631827
END:VEVENT
BEGIN:VEVENT
DTSTART;TZID=Asia/Tokyo:20251028T180000
DTEND;TZID=Asia/Tokyo:20251028T220000
DTSTAMP:20260420T094923
CREATED:20230812T150641Z
LAST-MODIFIED:20230812T150641Z
UID:10000231-1761674400-1761688800@7buddy.com
SUMMARY:アドラー心理学に学ぶ「悩みを解消する“承認欲求との向き合い方”」
DESCRIPTION:アドラー心理学から、承認欲求の問題点と、人間関係の悩みを解消できる「適切な承認欲求との向き合い方」を学べる勉強会です
URL:https://7buddy.com/community/event/ad01/2025-10-28/
LOCATION:アミュゼ柏\, 千葉県柏市柏６丁目２−２２\, 柏市柏６丁目２−２２\, 千葉県\, 2770005\, 日本
CATEGORIES:心理学
ATTACH;FMTTYPE=image/jpeg:https://7buddy.com/community/wp-content/uploads/2023/08/1_DIpg-kS0ZbdJ9XxThTp4kw.jpg
ORGANIZER;CN="7seconds":MAILTO:info@7seconds.jp
GEO:35.8631827;139.9758702
X-APPLE-STRUCTURED-LOCATION;VALUE=URI;X-ADDRESS=アミュゼ柏 千葉県柏市柏６丁目２−２２ 柏市柏６丁目２−２２ 千葉県 2770005 日本;X-APPLE-RADIUS=500;X-TITLE=千葉県柏市柏６丁目２−２２:geo:139.9758702,35.8631827
END:VEVENT
BEGIN:VEVENT
DTSTART;TZID=Asia/Tokyo:20251031T180000
DTEND;TZID=Asia/Tokyo:20251031T220000
DTSTAMP:20260420T094923
CREATED:20230812T150641Z
LAST-MODIFIED:20230812T150641Z
UID:10000232-1761933600-1761948000@7buddy.com
SUMMARY:アドラー心理学に学ぶ「悩みを解消する“承認欲求との向き合い方”」
DESCRIPTION:アドラー心理学から、承認欲求の問題点と、人間関係の悩みを解消できる「適切な承認欲求との向き合い方」を学べる勉強会です
URL:https://7buddy.com/community/event/ad01/2025-10-31/
LOCATION:アミュゼ柏\, 千葉県柏市柏６丁目２−２２\, 柏市柏６丁目２−２２\, 千葉県\, 2770005\, 日本
CATEGORIES:心理学
ATTACH;FMTTYPE=image/jpeg:https://7buddy.com/community/wp-content/uploads/2023/08/1_DIpg-kS0ZbdJ9XxThTp4kw.jpg
ORGANIZER;CN="7seconds":MAILTO:info@7seconds.jp
GEO:35.8631827;139.9758702
X-APPLE-STRUCTURED-LOCATION;VALUE=URI;X-ADDRESS=アミュゼ柏 千葉県柏市柏６丁目２−２２ 柏市柏６丁目２−２２ 千葉県 2770005 日本;X-APPLE-RADIUS=500;X-TITLE=千葉県柏市柏６丁目２−２２:geo:139.9758702,35.8631827
END:VEVENT
END:VCALENDAR