BEGIN:VCALENDAR
VERSION:2.0
PRODID:-//会員制レッスンコミュニティ - ECPv6.15.20//NONSGML v1.0//EN
CALSCALE:GREGORIAN
METHOD:PUBLISH
X-ORIGINAL-URL:https://7buddy.com/community
X-WR-CALDESC:会員制レッスンコミュニティ のイベント
REFRESH-INTERVAL;VALUE=DURATION:PT1H
X-Robots-Tag:noindex
X-PUBLISHED-TTL:PT1H
BEGIN:VTIMEZONE
TZID:Asia/Tokyo
BEGIN:STANDARD
TZOFFSETFROM:+0900
TZOFFSETTO:+0900
TZNAME:JST
DTSTART:20260101T000000
END:STANDARD
END:VTIMEZONE
BEGIN:VEVENT
DTSTART;TZID=Asia/Tokyo:20271001T180000
DTEND;TZID=Asia/Tokyo:20271001T220000
DTSTAMP:20260421T055334
CREATED:20230812T150641Z
LAST-MODIFIED:20230812T150641Z
UID:10000432-1822413600-1822428000@7buddy.com
SUMMARY:アドラー心理学に学ぶ「悩みを解消する“承認欲求との向き合い方”」
DESCRIPTION:アドラー心理学から、承認欲求の問題点と、人間関係の悩みを解消できる「適切な承認欲求との向き合い方」を学べる勉強会です
URL:https://7buddy.com/community/event/ad01/2027-10-01/
LOCATION:アミュゼ柏\, 千葉県柏市柏６丁目２−２２\, 柏市柏６丁目２−２２\, 千葉県\, 2770005\, 日本
CATEGORIES:心理学
ATTACH;FMTTYPE=image/jpeg:https://7buddy.com/community/wp-content/uploads/2023/08/1_DIpg-kS0ZbdJ9XxThTp4kw.jpg
ORGANIZER;CN="7seconds":MAILTO:info@7seconds.jp
GEO:35.8631827;139.9758702
X-APPLE-STRUCTURED-LOCATION;VALUE=URI;X-ADDRESS=アミュゼ柏 千葉県柏市柏６丁目２−２２ 柏市柏６丁目２−２２ 千葉県 2770005 日本;X-APPLE-RADIUS=500;X-TITLE=千葉県柏市柏６丁目２−２２:geo:139.9758702,35.8631827
END:VEVENT
BEGIN:VEVENT
DTSTART;TZID=Asia/Tokyo:20271005T180000
DTEND;TZID=Asia/Tokyo:20271005T220000
DTSTAMP:20260421T055334
CREATED:20230812T150641Z
LAST-MODIFIED:20230812T150641Z
UID:10000433-1822759200-1822773600@7buddy.com
SUMMARY:アドラー心理学に学ぶ「悩みを解消する“承認欲求との向き合い方”」
DESCRIPTION:アドラー心理学から、承認欲求の問題点と、人間関係の悩みを解消できる「適切な承認欲求との向き合い方」を学べる勉強会です
URL:https://7buddy.com/community/event/ad01/2027-10-05/
LOCATION:アミュゼ柏\, 千葉県柏市柏６丁目２−２２\, 柏市柏６丁目２−２２\, 千葉県\, 2770005\, 日本
CATEGORIES:心理学
ATTACH;FMTTYPE=image/jpeg:https://7buddy.com/community/wp-content/uploads/2023/08/1_DIpg-kS0ZbdJ9XxThTp4kw.jpg
ORGANIZER;CN="7seconds":MAILTO:info@7seconds.jp
GEO:35.8631827;139.9758702
X-APPLE-STRUCTURED-LOCATION;VALUE=URI;X-ADDRESS=アミュゼ柏 千葉県柏市柏６丁目２−２２ 柏市柏６丁目２−２２ 千葉県 2770005 日本;X-APPLE-RADIUS=500;X-TITLE=千葉県柏市柏６丁目２−２２:geo:139.9758702,35.8631827
END:VEVENT
BEGIN:VEVENT
DTSTART;TZID=Asia/Tokyo:20271008T180000
DTEND;TZID=Asia/Tokyo:20271008T220000
DTSTAMP:20260421T055334
CREATED:20230812T150641Z
LAST-MODIFIED:20230812T150641Z
UID:10000434-1823018400-1823032800@7buddy.com
SUMMARY:アドラー心理学に学ぶ「悩みを解消する“承認欲求との向き合い方”」
DESCRIPTION:アドラー心理学から、承認欲求の問題点と、人間関係の悩みを解消できる「適切な承認欲求との向き合い方」を学べる勉強会です
URL:https://7buddy.com/community/event/ad01/2027-10-08/
LOCATION:アミュゼ柏\, 千葉県柏市柏６丁目２−２２\, 柏市柏６丁目２−２２\, 千葉県\, 2770005\, 日本
CATEGORIES:心理学
ATTACH;FMTTYPE=image/jpeg:https://7buddy.com/community/wp-content/uploads/2023/08/1_DIpg-kS0ZbdJ9XxThTp4kw.jpg
ORGANIZER;CN="7seconds":MAILTO:info@7seconds.jp
GEO:35.8631827;139.9758702
X-APPLE-STRUCTURED-LOCATION;VALUE=URI;X-ADDRESS=アミュゼ柏 千葉県柏市柏６丁目２−２２ 柏市柏６丁目２−２２ 千葉県 2770005 日本;X-APPLE-RADIUS=500;X-TITLE=千葉県柏市柏６丁目２−２２:geo:139.9758702,35.8631827
END:VEVENT
BEGIN:VEVENT
DTSTART;TZID=Asia/Tokyo:20271012T180000
DTEND;TZID=Asia/Tokyo:20271012T220000
DTSTAMP:20260421T055334
CREATED:20230812T150641Z
LAST-MODIFIED:20230812T150641Z
UID:10000435-1823364000-1823378400@7buddy.com
SUMMARY:アドラー心理学に学ぶ「悩みを解消する“承認欲求との向き合い方”」
DESCRIPTION:アドラー心理学から、承認欲求の問題点と、人間関係の悩みを解消できる「適切な承認欲求との向き合い方」を学べる勉強会です
URL:https://7buddy.com/community/event/ad01/2027-10-12/
LOCATION:アミュゼ柏\, 千葉県柏市柏６丁目２−２２\, 柏市柏６丁目２−２２\, 千葉県\, 2770005\, 日本
CATEGORIES:心理学
ATTACH;FMTTYPE=image/jpeg:https://7buddy.com/community/wp-content/uploads/2023/08/1_DIpg-kS0ZbdJ9XxThTp4kw.jpg
ORGANIZER;CN="7seconds":MAILTO:info@7seconds.jp
GEO:35.8631827;139.9758702
X-APPLE-STRUCTURED-LOCATION;VALUE=URI;X-ADDRESS=アミュゼ柏 千葉県柏市柏６丁目２−２２ 柏市柏６丁目２−２２ 千葉県 2770005 日本;X-APPLE-RADIUS=500;X-TITLE=千葉県柏市柏６丁目２−２２:geo:139.9758702,35.8631827
END:VEVENT
BEGIN:VEVENT
DTSTART;TZID=Asia/Tokyo:20271015T180000
DTEND;TZID=Asia/Tokyo:20271015T220000
DTSTAMP:20260421T055334
CREATED:20230812T150641Z
LAST-MODIFIED:20230812T150641Z
UID:10000436-1823623200-1823637600@7buddy.com
SUMMARY:アドラー心理学に学ぶ「悩みを解消する“承認欲求との向き合い方”」
DESCRIPTION:アドラー心理学から、承認欲求の問題点と、人間関係の悩みを解消できる「適切な承認欲求との向き合い方」を学べる勉強会です
URL:https://7buddy.com/community/event/ad01/2027-10-15/
LOCATION:アミュゼ柏\, 千葉県柏市柏６丁目２−２２\, 柏市柏６丁目２−２２\, 千葉県\, 2770005\, 日本
CATEGORIES:心理学
ATTACH;FMTTYPE=image/jpeg:https://7buddy.com/community/wp-content/uploads/2023/08/1_DIpg-kS0ZbdJ9XxThTp4kw.jpg
ORGANIZER;CN="7seconds":MAILTO:info@7seconds.jp
GEO:35.8631827;139.9758702
X-APPLE-STRUCTURED-LOCATION;VALUE=URI;X-ADDRESS=アミュゼ柏 千葉県柏市柏６丁目２−２２ 柏市柏６丁目２−２２ 千葉県 2770005 日本;X-APPLE-RADIUS=500;X-TITLE=千葉県柏市柏６丁目２−２２:geo:139.9758702,35.8631827
END:VEVENT
BEGIN:VEVENT
DTSTART;TZID=Asia/Tokyo:20271019T180000
DTEND;TZID=Asia/Tokyo:20271019T220000
DTSTAMP:20260421T055334
CREATED:20230812T150641Z
LAST-MODIFIED:20230812T150641Z
UID:10000437-1823968800-1823983200@7buddy.com
SUMMARY:アドラー心理学に学ぶ「悩みを解消する“承認欲求との向き合い方”」
DESCRIPTION:アドラー心理学から、承認欲求の問題点と、人間関係の悩みを解消できる「適切な承認欲求との向き合い方」を学べる勉強会です
URL:https://7buddy.com/community/event/ad01/2027-10-19/
LOCATION:アミュゼ柏\, 千葉県柏市柏６丁目２−２２\, 柏市柏６丁目２−２２\, 千葉県\, 2770005\, 日本
CATEGORIES:心理学
ATTACH;FMTTYPE=image/jpeg:https://7buddy.com/community/wp-content/uploads/2023/08/1_DIpg-kS0ZbdJ9XxThTp4kw.jpg
ORGANIZER;CN="7seconds":MAILTO:info@7seconds.jp
GEO:35.8631827;139.9758702
X-APPLE-STRUCTURED-LOCATION;VALUE=URI;X-ADDRESS=アミュゼ柏 千葉県柏市柏６丁目２−２２ 柏市柏６丁目２−２２ 千葉県 2770005 日本;X-APPLE-RADIUS=500;X-TITLE=千葉県柏市柏６丁目２−２２:geo:139.9758702,35.8631827
END:VEVENT
BEGIN:VEVENT
DTSTART;TZID=Asia/Tokyo:20271022T180000
DTEND;TZID=Asia/Tokyo:20271022T220000
DTSTAMP:20260421T055334
CREATED:20230812T150641Z
LAST-MODIFIED:20230812T150641Z
UID:10000438-1824228000-1824242400@7buddy.com
SUMMARY:アドラー心理学に学ぶ「悩みを解消する“承認欲求との向き合い方”」
DESCRIPTION:アドラー心理学から、承認欲求の問題点と、人間関係の悩みを解消できる「適切な承認欲求との向き合い方」を学べる勉強会です
URL:https://7buddy.com/community/event/ad01/2027-10-22/
LOCATION:アミュゼ柏\, 千葉県柏市柏６丁目２−２２\, 柏市柏６丁目２−２２\, 千葉県\, 2770005\, 日本
CATEGORIES:心理学
ATTACH;FMTTYPE=image/jpeg:https://7buddy.com/community/wp-content/uploads/2023/08/1_DIpg-kS0ZbdJ9XxThTp4kw.jpg
ORGANIZER;CN="7seconds":MAILTO:info@7seconds.jp
GEO:35.8631827;139.9758702
X-APPLE-STRUCTURED-LOCATION;VALUE=URI;X-ADDRESS=アミュゼ柏 千葉県柏市柏６丁目２−２２ 柏市柏６丁目２−２２ 千葉県 2770005 日本;X-APPLE-RADIUS=500;X-TITLE=千葉県柏市柏６丁目２−２２:geo:139.9758702,35.8631827
END:VEVENT
BEGIN:VEVENT
DTSTART;TZID=Asia/Tokyo:20271026T180000
DTEND;TZID=Asia/Tokyo:20271026T220000
DTSTAMP:20260421T055334
CREATED:20230812T150641Z
LAST-MODIFIED:20230812T150641Z
UID:10000439-1824573600-1824588000@7buddy.com
SUMMARY:アドラー心理学に学ぶ「悩みを解消する“承認欲求との向き合い方”」
DESCRIPTION:アドラー心理学から、承認欲求の問題点と、人間関係の悩みを解消できる「適切な承認欲求との向き合い方」を学べる勉強会です
URL:https://7buddy.com/community/event/ad01/2027-10-26/
LOCATION:アミュゼ柏\, 千葉県柏市柏６丁目２−２２\, 柏市柏６丁目２−２２\, 千葉県\, 2770005\, 日本
CATEGORIES:心理学
ATTACH;FMTTYPE=image/jpeg:https://7buddy.com/community/wp-content/uploads/2023/08/1_DIpg-kS0ZbdJ9XxThTp4kw.jpg
ORGANIZER;CN="7seconds":MAILTO:info@7seconds.jp
GEO:35.8631827;139.9758702
X-APPLE-STRUCTURED-LOCATION;VALUE=URI;X-ADDRESS=アミュゼ柏 千葉県柏市柏６丁目２−２２ 柏市柏６丁目２−２２ 千葉県 2770005 日本;X-APPLE-RADIUS=500;X-TITLE=千葉県柏市柏６丁目２−２２:geo:139.9758702,35.8631827
END:VEVENT
BEGIN:VEVENT
DTSTART;TZID=Asia/Tokyo:20271029T180000
DTEND;TZID=Asia/Tokyo:20271029T220000
DTSTAMP:20260421T055334
CREATED:20230812T150641Z
LAST-MODIFIED:20230812T150641Z
UID:10000440-1824832800-1824847200@7buddy.com
SUMMARY:アドラー心理学に学ぶ「悩みを解消する“承認欲求との向き合い方”」
DESCRIPTION:アドラー心理学から、承認欲求の問題点と、人間関係の悩みを解消できる「適切な承認欲求との向き合い方」を学べる勉強会です
URL:https://7buddy.com/community/event/ad01/2027-10-29/
LOCATION:アミュゼ柏\, 千葉県柏市柏６丁目２−２２\, 柏市柏６丁目２−２２\, 千葉県\, 2770005\, 日本
CATEGORIES:心理学
ATTACH;FMTTYPE=image/jpeg:https://7buddy.com/community/wp-content/uploads/2023/08/1_DIpg-kS0ZbdJ9XxThTp4kw.jpg
ORGANIZER;CN="7seconds":MAILTO:info@7seconds.jp
GEO:35.8631827;139.9758702
X-APPLE-STRUCTURED-LOCATION;VALUE=URI;X-ADDRESS=アミュゼ柏 千葉県柏市柏６丁目２−２２ 柏市柏６丁目２−２２ 千葉県 2770005 日本;X-APPLE-RADIUS=500;X-TITLE=千葉県柏市柏６丁目２−２２:geo:139.9758702,35.8631827
END:VEVENT
END:VCALENDAR