BEGIN:VCALENDAR
VERSION:2.0
PRODID:-//会員制レッスンコミュニティ - ECPv6.15.20//NONSGML v1.0//EN
CALSCALE:GREGORIAN
METHOD:PUBLISH
X-ORIGINAL-URL:https://7buddy.com/community
X-WR-CALDESC:会員制レッスンコミュニティ のイベント
REFRESH-INTERVAL;VALUE=DURATION:PT1H
X-Robots-Tag:noindex
X-PUBLISHED-TTL:PT1H
BEGIN:VTIMEZONE
TZID:Asia/Tokyo
BEGIN:STANDARD
TZOFFSETFROM:+0900
TZOFFSETTO:+0900
TZNAME:JST
DTSTART:20270101T000000
END:STANDARD
END:VTIMEZONE
BEGIN:VEVENT
DTSTART;TZID=Asia/Tokyo:20280303T180000
DTEND;TZID=Asia/Tokyo:20280303T220000
DTSTAMP:20260421T151550
CREATED:20230812T150641Z
LAST-MODIFIED:20230812T150641Z
UID:10000476-1835719200-1835733600@7buddy.com
SUMMARY:アドラー心理学に学ぶ「悩みを解消する“承認欲求との向き合い方”」
DESCRIPTION:アドラー心理学から、承認欲求の問題点と、人間関係の悩みを解消できる「適切な承認欲求との向き合い方」を学べる勉強会です
URL:https://7buddy.com/community/event/ad01/2028-03-03/
LOCATION:アミュゼ柏\, 千葉県柏市柏６丁目２−２２\, 柏市柏６丁目２−２２\, 千葉県\, 2770005\, 日本
CATEGORIES:心理学
ATTACH;FMTTYPE=image/jpeg:https://7buddy.com/community/wp-content/uploads/2023/08/1_DIpg-kS0ZbdJ9XxThTp4kw.jpg
ORGANIZER;CN="7seconds":MAILTO:info@7seconds.jp
GEO:35.8631827;139.9758702
X-APPLE-STRUCTURED-LOCATION;VALUE=URI;X-ADDRESS=アミュゼ柏 千葉県柏市柏６丁目２−２２ 柏市柏６丁目２−２２ 千葉県 2770005 日本;X-APPLE-RADIUS=500;X-TITLE=千葉県柏市柏６丁目２−２２:geo:139.9758702,35.8631827
END:VEVENT
BEGIN:VEVENT
DTSTART;TZID=Asia/Tokyo:20280307T180000
DTEND;TZID=Asia/Tokyo:20280307T220000
DTSTAMP:20260421T151550
CREATED:20230812T150641Z
LAST-MODIFIED:20230812T150641Z
UID:10000477-1836064800-1836079200@7buddy.com
SUMMARY:アドラー心理学に学ぶ「悩みを解消する“承認欲求との向き合い方”」
DESCRIPTION:アドラー心理学から、承認欲求の問題点と、人間関係の悩みを解消できる「適切な承認欲求との向き合い方」を学べる勉強会です
URL:https://7buddy.com/community/event/ad01/2028-03-07/
LOCATION:アミュゼ柏\, 千葉県柏市柏６丁目２−２２\, 柏市柏６丁目２−２２\, 千葉県\, 2770005\, 日本
CATEGORIES:心理学
ATTACH;FMTTYPE=image/jpeg:https://7buddy.com/community/wp-content/uploads/2023/08/1_DIpg-kS0ZbdJ9XxThTp4kw.jpg
ORGANIZER;CN="7seconds":MAILTO:info@7seconds.jp
GEO:35.8631827;139.9758702
X-APPLE-STRUCTURED-LOCATION;VALUE=URI;X-ADDRESS=アミュゼ柏 千葉県柏市柏６丁目２−２２ 柏市柏６丁目２−２２ 千葉県 2770005 日本;X-APPLE-RADIUS=500;X-TITLE=千葉県柏市柏６丁目２−２２:geo:139.9758702,35.8631827
END:VEVENT
BEGIN:VEVENT
DTSTART;TZID=Asia/Tokyo:20280310T180000
DTEND;TZID=Asia/Tokyo:20280310T220000
DTSTAMP:20260421T151550
CREATED:20230812T150641Z
LAST-MODIFIED:20230812T150641Z
UID:10000478-1836324000-1836338400@7buddy.com
SUMMARY:アドラー心理学に学ぶ「悩みを解消する“承認欲求との向き合い方”」
DESCRIPTION:アドラー心理学から、承認欲求の問題点と、人間関係の悩みを解消できる「適切な承認欲求との向き合い方」を学べる勉強会です
URL:https://7buddy.com/community/event/ad01/2028-03-10/
LOCATION:アミュゼ柏\, 千葉県柏市柏６丁目２−２２\, 柏市柏６丁目２−２２\, 千葉県\, 2770005\, 日本
CATEGORIES:心理学
ATTACH;FMTTYPE=image/jpeg:https://7buddy.com/community/wp-content/uploads/2023/08/1_DIpg-kS0ZbdJ9XxThTp4kw.jpg
ORGANIZER;CN="7seconds":MAILTO:info@7seconds.jp
GEO:35.8631827;139.9758702
X-APPLE-STRUCTURED-LOCATION;VALUE=URI;X-ADDRESS=アミュゼ柏 千葉県柏市柏６丁目２−２２ 柏市柏６丁目２−２２ 千葉県 2770005 日本;X-APPLE-RADIUS=500;X-TITLE=千葉県柏市柏６丁目２−２２:geo:139.9758702,35.8631827
END:VEVENT
BEGIN:VEVENT
DTSTART;TZID=Asia/Tokyo:20280314T180000
DTEND;TZID=Asia/Tokyo:20280314T220000
DTSTAMP:20260421T151550
CREATED:20230812T150641Z
LAST-MODIFIED:20230812T150641Z
UID:10000479-1836669600-1836684000@7buddy.com
SUMMARY:アドラー心理学に学ぶ「悩みを解消する“承認欲求との向き合い方”」
DESCRIPTION:アドラー心理学から、承認欲求の問題点と、人間関係の悩みを解消できる「適切な承認欲求との向き合い方」を学べる勉強会です
URL:https://7buddy.com/community/event/ad01/2028-03-14/
LOCATION:アミュゼ柏\, 千葉県柏市柏６丁目２−２２\, 柏市柏６丁目２−２２\, 千葉県\, 2770005\, 日本
CATEGORIES:心理学
ATTACH;FMTTYPE=image/jpeg:https://7buddy.com/community/wp-content/uploads/2023/08/1_DIpg-kS0ZbdJ9XxThTp4kw.jpg
ORGANIZER;CN="7seconds":MAILTO:info@7seconds.jp
GEO:35.8631827;139.9758702
X-APPLE-STRUCTURED-LOCATION;VALUE=URI;X-ADDRESS=アミュゼ柏 千葉県柏市柏６丁目２−２２ 柏市柏６丁目２−２２ 千葉県 2770005 日本;X-APPLE-RADIUS=500;X-TITLE=千葉県柏市柏６丁目２−２２:geo:139.9758702,35.8631827
END:VEVENT
BEGIN:VEVENT
DTSTART;TZID=Asia/Tokyo:20280317T180000
DTEND;TZID=Asia/Tokyo:20280317T220000
DTSTAMP:20260421T151550
CREATED:20230812T150641Z
LAST-MODIFIED:20230812T150641Z
UID:10000480-1836928800-1836943200@7buddy.com
SUMMARY:アドラー心理学に学ぶ「悩みを解消する“承認欲求との向き合い方”」
DESCRIPTION:アドラー心理学から、承認欲求の問題点と、人間関係の悩みを解消できる「適切な承認欲求との向き合い方」を学べる勉強会です
URL:https://7buddy.com/community/event/ad01/2028-03-17/
LOCATION:アミュゼ柏\, 千葉県柏市柏６丁目２−２２\, 柏市柏６丁目２−２２\, 千葉県\, 2770005\, 日本
CATEGORIES:心理学
ATTACH;FMTTYPE=image/jpeg:https://7buddy.com/community/wp-content/uploads/2023/08/1_DIpg-kS0ZbdJ9XxThTp4kw.jpg
ORGANIZER;CN="7seconds":MAILTO:info@7seconds.jp
GEO:35.8631827;139.9758702
X-APPLE-STRUCTURED-LOCATION;VALUE=URI;X-ADDRESS=アミュゼ柏 千葉県柏市柏６丁目２−２２ 柏市柏６丁目２−２２ 千葉県 2770005 日本;X-APPLE-RADIUS=500;X-TITLE=千葉県柏市柏６丁目２−２２:geo:139.9758702,35.8631827
END:VEVENT
BEGIN:VEVENT
DTSTART;TZID=Asia/Tokyo:20280321T180000
DTEND;TZID=Asia/Tokyo:20280321T220000
DTSTAMP:20260421T151550
CREATED:20230812T150641Z
LAST-MODIFIED:20230812T150641Z
UID:10000481-1837274400-1837288800@7buddy.com
SUMMARY:アドラー心理学に学ぶ「悩みを解消する“承認欲求との向き合い方”」
DESCRIPTION:アドラー心理学から、承認欲求の問題点と、人間関係の悩みを解消できる「適切な承認欲求との向き合い方」を学べる勉強会です
URL:https://7buddy.com/community/event/ad01/2028-03-21/
LOCATION:アミュゼ柏\, 千葉県柏市柏６丁目２−２２\, 柏市柏６丁目２−２２\, 千葉県\, 2770005\, 日本
CATEGORIES:心理学
ATTACH;FMTTYPE=image/jpeg:https://7buddy.com/community/wp-content/uploads/2023/08/1_DIpg-kS0ZbdJ9XxThTp4kw.jpg
ORGANIZER;CN="7seconds":MAILTO:info@7seconds.jp
GEO:35.8631827;139.9758702
X-APPLE-STRUCTURED-LOCATION;VALUE=URI;X-ADDRESS=アミュゼ柏 千葉県柏市柏６丁目２−２２ 柏市柏６丁目２−２２ 千葉県 2770005 日本;X-APPLE-RADIUS=500;X-TITLE=千葉県柏市柏６丁目２−２２:geo:139.9758702,35.8631827
END:VEVENT
BEGIN:VEVENT
DTSTART;TZID=Asia/Tokyo:20280324T180000
DTEND;TZID=Asia/Tokyo:20280324T220000
DTSTAMP:20260421T151550
CREATED:20230812T150641Z
LAST-MODIFIED:20230812T150641Z
UID:10000482-1837533600-1837548000@7buddy.com
SUMMARY:アドラー心理学に学ぶ「悩みを解消する“承認欲求との向き合い方”」
DESCRIPTION:アドラー心理学から、承認欲求の問題点と、人間関係の悩みを解消できる「適切な承認欲求との向き合い方」を学べる勉強会です
URL:https://7buddy.com/community/event/ad01/2028-03-24/
LOCATION:アミュゼ柏\, 千葉県柏市柏６丁目２−２２\, 柏市柏６丁目２−２２\, 千葉県\, 2770005\, 日本
CATEGORIES:心理学
ATTACH;FMTTYPE=image/jpeg:https://7buddy.com/community/wp-content/uploads/2023/08/1_DIpg-kS0ZbdJ9XxThTp4kw.jpg
ORGANIZER;CN="7seconds":MAILTO:info@7seconds.jp
GEO:35.8631827;139.9758702
X-APPLE-STRUCTURED-LOCATION;VALUE=URI;X-ADDRESS=アミュゼ柏 千葉県柏市柏６丁目２−２２ 柏市柏６丁目２−２２ 千葉県 2770005 日本;X-APPLE-RADIUS=500;X-TITLE=千葉県柏市柏６丁目２−２２:geo:139.9758702,35.8631827
END:VEVENT
BEGIN:VEVENT
DTSTART;TZID=Asia/Tokyo:20280328T180000
DTEND;TZID=Asia/Tokyo:20280328T220000
DTSTAMP:20260421T151550
CREATED:20230812T150641Z
LAST-MODIFIED:20230812T150641Z
UID:10000483-1837879200-1837893600@7buddy.com
SUMMARY:アドラー心理学に学ぶ「悩みを解消する“承認欲求との向き合い方”」
DESCRIPTION:アドラー心理学から、承認欲求の問題点と、人間関係の悩みを解消できる「適切な承認欲求との向き合い方」を学べる勉強会です
URL:https://7buddy.com/community/event/ad01/2028-03-28/
LOCATION:アミュゼ柏\, 千葉県柏市柏６丁目２−２２\, 柏市柏６丁目２−２２\, 千葉県\, 2770005\, 日本
CATEGORIES:心理学
ATTACH;FMTTYPE=image/jpeg:https://7buddy.com/community/wp-content/uploads/2023/08/1_DIpg-kS0ZbdJ9XxThTp4kw.jpg
ORGANIZER;CN="7seconds":MAILTO:info@7seconds.jp
GEO:35.8631827;139.9758702
X-APPLE-STRUCTURED-LOCATION;VALUE=URI;X-ADDRESS=アミュゼ柏 千葉県柏市柏６丁目２−２２ 柏市柏６丁目２−２２ 千葉県 2770005 日本;X-APPLE-RADIUS=500;X-TITLE=千葉県柏市柏６丁目２−２２:geo:139.9758702,35.8631827
END:VEVENT
BEGIN:VEVENT
DTSTART;TZID=Asia/Tokyo:20280331T180000
DTEND;TZID=Asia/Tokyo:20280331T220000
DTSTAMP:20260421T151550
CREATED:20230812T150641Z
LAST-MODIFIED:20230812T150641Z
UID:10000484-1838138400-1838152800@7buddy.com
SUMMARY:アドラー心理学に学ぶ「悩みを解消する“承認欲求との向き合い方”」
DESCRIPTION:アドラー心理学から、承認欲求の問題点と、人間関係の悩みを解消できる「適切な承認欲求との向き合い方」を学べる勉強会です
URL:https://7buddy.com/community/event/ad01/2028-03-31/
LOCATION:アミュゼ柏\, 千葉県柏市柏６丁目２−２２\, 柏市柏６丁目２−２２\, 千葉県\, 2770005\, 日本
CATEGORIES:心理学
ATTACH;FMTTYPE=image/jpeg:https://7buddy.com/community/wp-content/uploads/2023/08/1_DIpg-kS0ZbdJ9XxThTp4kw.jpg
ORGANIZER;CN="7seconds":MAILTO:info@7seconds.jp
GEO:35.8631827;139.9758702
X-APPLE-STRUCTURED-LOCATION;VALUE=URI;X-ADDRESS=アミュゼ柏 千葉県柏市柏６丁目２−２２ 柏市柏６丁目２−２２ 千葉県 2770005 日本;X-APPLE-RADIUS=500;X-TITLE=千葉県柏市柏６丁目２−２２:geo:139.9758702,35.8631827
END:VEVENT
END:VCALENDAR