BEGIN:VCALENDAR
VERSION:2.0
PRODID:-//会員制レッスンコミュニティ - ECPv6.15.20//NONSGML v1.0//EN
CALSCALE:GREGORIAN
METHOD:PUBLISH
X-WR-CALNAME:会員制レッスンコミュニティ
X-ORIGINAL-URL:https://7buddy.com/community
X-WR-CALDESC:会員制レッスンコミュニティ のイベント
REFRESH-INTERVAL;VALUE=DURATION:PT1H
X-Robots-Tag:noindex
X-PUBLISHED-TTL:PT1H
BEGIN:VTIMEZONE
TZID:Asia/Tokyo
BEGIN:STANDARD
TZOFFSETFROM:+0900
TZOFFSETTO:+0900
TZNAME:JST
DTSTART:20260101T000000
END:STANDARD
END:VTIMEZONE
BEGIN:VEVENT
DTSTART;TZID=Asia/Tokyo:20270409T180000
DTEND;TZID=Asia/Tokyo:20270409T220000
DTSTAMP:20260420T231009
CREATED:20230812T150641Z
LAST-MODIFIED:20230812T150641Z
UID:10000382-1807293600-1807308000@7buddy.com
SUMMARY:アドラー心理学に学ぶ「悩みを解消する“承認欲求との向き合い方”」
DESCRIPTION:アドラー心理学から、承認欲求の問題点と、人間関係の悩みを解消できる「適切な承認欲求との向き合い方」を学べる勉強会です
URL:https://7buddy.com/community/event/ad01/2027-04-09/
LOCATION:アミュゼ柏\, 千葉県柏市柏６丁目２−２２\, 柏市柏６丁目２−２２\, 千葉県\, 2770005\, 日本
CATEGORIES:心理学
ATTACH;FMTTYPE=image/jpeg:https://7buddy.com/community/wp-content/uploads/2023/08/1_DIpg-kS0ZbdJ9XxThTp4kw.jpg
ORGANIZER;CN="7seconds":MAILTO:info@7seconds.jp
GEO:35.8631827;139.9758702
X-APPLE-STRUCTURED-LOCATION;VALUE=URI;X-ADDRESS=アミュゼ柏 千葉県柏市柏６丁目２−２２ 柏市柏６丁目２−２２ 千葉県 2770005 日本;X-APPLE-RADIUS=500;X-TITLE=千葉県柏市柏６丁目２−２２:geo:139.9758702,35.8631827
END:VEVENT
BEGIN:VEVENT
DTSTART;TZID=Asia/Tokyo:20270413T180000
DTEND;TZID=Asia/Tokyo:20270413T220000
DTSTAMP:20260420T231009
CREATED:20230812T150641Z
LAST-MODIFIED:20230812T150641Z
UID:10000383-1807639200-1807653600@7buddy.com
SUMMARY:アドラー心理学に学ぶ「悩みを解消する“承認欲求との向き合い方”」
DESCRIPTION:アドラー心理学から、承認欲求の問題点と、人間関係の悩みを解消できる「適切な承認欲求との向き合い方」を学べる勉強会です
URL:https://7buddy.com/community/event/ad01/2027-04-13/
LOCATION:アミュゼ柏\, 千葉県柏市柏６丁目２−２２\, 柏市柏６丁目２−２２\, 千葉県\, 2770005\, 日本
CATEGORIES:心理学
ATTACH;FMTTYPE=image/jpeg:https://7buddy.com/community/wp-content/uploads/2023/08/1_DIpg-kS0ZbdJ9XxThTp4kw.jpg
ORGANIZER;CN="7seconds":MAILTO:info@7seconds.jp
GEO:35.8631827;139.9758702
X-APPLE-STRUCTURED-LOCATION;VALUE=URI;X-ADDRESS=アミュゼ柏 千葉県柏市柏６丁目２−２２ 柏市柏６丁目２−２２ 千葉県 2770005 日本;X-APPLE-RADIUS=500;X-TITLE=千葉県柏市柏６丁目２−２２:geo:139.9758702,35.8631827
END:VEVENT
BEGIN:VEVENT
DTSTART;TZID=Asia/Tokyo:20270416T180000
DTEND;TZID=Asia/Tokyo:20270416T220000
DTSTAMP:20260420T231009
CREATED:20230812T150641Z
LAST-MODIFIED:20230812T150641Z
UID:10000384-1807898400-1807912800@7buddy.com
SUMMARY:アドラー心理学に学ぶ「悩みを解消する“承認欲求との向き合い方”」
DESCRIPTION:アドラー心理学から、承認欲求の問題点と、人間関係の悩みを解消できる「適切な承認欲求との向き合い方」を学べる勉強会です
URL:https://7buddy.com/community/event/ad01/2027-04-16/
LOCATION:アミュゼ柏\, 千葉県柏市柏６丁目２−２２\, 柏市柏６丁目２−２２\, 千葉県\, 2770005\, 日本
CATEGORIES:心理学
ATTACH;FMTTYPE=image/jpeg:https://7buddy.com/community/wp-content/uploads/2023/08/1_DIpg-kS0ZbdJ9XxThTp4kw.jpg
ORGANIZER;CN="7seconds":MAILTO:info@7seconds.jp
GEO:35.8631827;139.9758702
X-APPLE-STRUCTURED-LOCATION;VALUE=URI;X-ADDRESS=アミュゼ柏 千葉県柏市柏６丁目２−２２ 柏市柏６丁目２−２２ 千葉県 2770005 日本;X-APPLE-RADIUS=500;X-TITLE=千葉県柏市柏６丁目２−２２:geo:139.9758702,35.8631827
END:VEVENT
BEGIN:VEVENT
DTSTART;TZID=Asia/Tokyo:20270420T180000
DTEND;TZID=Asia/Tokyo:20270420T220000
DTSTAMP:20260420T231009
CREATED:20230812T150641Z
LAST-MODIFIED:20230812T150641Z
UID:10000385-1808244000-1808258400@7buddy.com
SUMMARY:アドラー心理学に学ぶ「悩みを解消する“承認欲求との向き合い方”」
DESCRIPTION:アドラー心理学から、承認欲求の問題点と、人間関係の悩みを解消できる「適切な承認欲求との向き合い方」を学べる勉強会です
URL:https://7buddy.com/community/event/ad01/2027-04-20/
LOCATION:アミュゼ柏\, 千葉県柏市柏６丁目２−２２\, 柏市柏６丁目２−２２\, 千葉県\, 2770005\, 日本
CATEGORIES:心理学
ATTACH;FMTTYPE=image/jpeg:https://7buddy.com/community/wp-content/uploads/2023/08/1_DIpg-kS0ZbdJ9XxThTp4kw.jpg
ORGANIZER;CN="7seconds":MAILTO:info@7seconds.jp
GEO:35.8631827;139.9758702
X-APPLE-STRUCTURED-LOCATION;VALUE=URI;X-ADDRESS=アミュゼ柏 千葉県柏市柏６丁目２−２２ 柏市柏６丁目２−２２ 千葉県 2770005 日本;X-APPLE-RADIUS=500;X-TITLE=千葉県柏市柏６丁目２−２２:geo:139.9758702,35.8631827
END:VEVENT
BEGIN:VEVENT
DTSTART;TZID=Asia/Tokyo:20270423T180000
DTEND;TZID=Asia/Tokyo:20270423T220000
DTSTAMP:20260420T231009
CREATED:20230812T150641Z
LAST-MODIFIED:20230812T150641Z
UID:10000386-1808503200-1808517600@7buddy.com
SUMMARY:アドラー心理学に学ぶ「悩みを解消する“承認欲求との向き合い方”」
DESCRIPTION:アドラー心理学から、承認欲求の問題点と、人間関係の悩みを解消できる「適切な承認欲求との向き合い方」を学べる勉強会です
URL:https://7buddy.com/community/event/ad01/2027-04-23/
LOCATION:アミュゼ柏\, 千葉県柏市柏６丁目２−２２\, 柏市柏６丁目２−２２\, 千葉県\, 2770005\, 日本
CATEGORIES:心理学
ATTACH;FMTTYPE=image/jpeg:https://7buddy.com/community/wp-content/uploads/2023/08/1_DIpg-kS0ZbdJ9XxThTp4kw.jpg
ORGANIZER;CN="7seconds":MAILTO:info@7seconds.jp
GEO:35.8631827;139.9758702
X-APPLE-STRUCTURED-LOCATION;VALUE=URI;X-ADDRESS=アミュゼ柏 千葉県柏市柏６丁目２−２２ 柏市柏６丁目２−２２ 千葉県 2770005 日本;X-APPLE-RADIUS=500;X-TITLE=千葉県柏市柏６丁目２−２２:geo:139.9758702,35.8631827
END:VEVENT
BEGIN:VEVENT
DTSTART;TZID=Asia/Tokyo:20270427T180000
DTEND;TZID=Asia/Tokyo:20270427T220000
DTSTAMP:20260420T231009
CREATED:20230812T150641Z
LAST-MODIFIED:20230812T150641Z
UID:10000387-1808848800-1808863200@7buddy.com
SUMMARY:アドラー心理学に学ぶ「悩みを解消する“承認欲求との向き合い方”」
DESCRIPTION:アドラー心理学から、承認欲求の問題点と、人間関係の悩みを解消できる「適切な承認欲求との向き合い方」を学べる勉強会です
URL:https://7buddy.com/community/event/ad01/2027-04-27/
LOCATION:アミュゼ柏\, 千葉県柏市柏６丁目２−２２\, 柏市柏６丁目２−２２\, 千葉県\, 2770005\, 日本
CATEGORIES:心理学
ATTACH;FMTTYPE=image/jpeg:https://7buddy.com/community/wp-content/uploads/2023/08/1_DIpg-kS0ZbdJ9XxThTp4kw.jpg
ORGANIZER;CN="7seconds":MAILTO:info@7seconds.jp
GEO:35.8631827;139.9758702
X-APPLE-STRUCTURED-LOCATION;VALUE=URI;X-ADDRESS=アミュゼ柏 千葉県柏市柏６丁目２−２２ 柏市柏６丁目２−２２ 千葉県 2770005 日本;X-APPLE-RADIUS=500;X-TITLE=千葉県柏市柏６丁目２−２２:geo:139.9758702,35.8631827
END:VEVENT
BEGIN:VEVENT
DTSTART;TZID=Asia/Tokyo:20270430T180000
DTEND;TZID=Asia/Tokyo:20270430T220000
DTSTAMP:20260420T231009
CREATED:20230812T150641Z
LAST-MODIFIED:20230812T150641Z
UID:10000388-1809108000-1809122400@7buddy.com
SUMMARY:アドラー心理学に学ぶ「悩みを解消する“承認欲求との向き合い方”」
DESCRIPTION:アドラー心理学から、承認欲求の問題点と、人間関係の悩みを解消できる「適切な承認欲求との向き合い方」を学べる勉強会です
URL:https://7buddy.com/community/event/ad01/2027-04-30/
LOCATION:アミュゼ柏\, 千葉県柏市柏６丁目２−２２\, 柏市柏６丁目２−２２\, 千葉県\, 2770005\, 日本
CATEGORIES:心理学
ATTACH;FMTTYPE=image/jpeg:https://7buddy.com/community/wp-content/uploads/2023/08/1_DIpg-kS0ZbdJ9XxThTp4kw.jpg
ORGANIZER;CN="7seconds":MAILTO:info@7seconds.jp
GEO:35.8631827;139.9758702
X-APPLE-STRUCTURED-LOCATION;VALUE=URI;X-ADDRESS=アミュゼ柏 千葉県柏市柏６丁目２−２２ 柏市柏６丁目２−２２ 千葉県 2770005 日本;X-APPLE-RADIUS=500;X-TITLE=千葉県柏市柏６丁目２−２２:geo:139.9758702,35.8631827
END:VEVENT
BEGIN:VEVENT
DTSTART;TZID=Asia/Tokyo:20270504T180000
DTEND;TZID=Asia/Tokyo:20270504T220000
DTSTAMP:20260420T231009
CREATED:20230812T150641Z
LAST-MODIFIED:20230812T150641Z
UID:10000389-1809453600-1809468000@7buddy.com
SUMMARY:アドラー心理学に学ぶ「悩みを解消する“承認欲求との向き合い方”」
DESCRIPTION:アドラー心理学から、承認欲求の問題点と、人間関係の悩みを解消できる「適切な承認欲求との向き合い方」を学べる勉強会です
URL:https://7buddy.com/community/event/ad01/2027-05-04/
LOCATION:アミュゼ柏\, 千葉県柏市柏６丁目２−２２\, 柏市柏６丁目２−２２\, 千葉県\, 2770005\, 日本
CATEGORIES:心理学
ATTACH;FMTTYPE=image/jpeg:https://7buddy.com/community/wp-content/uploads/2023/08/1_DIpg-kS0ZbdJ9XxThTp4kw.jpg
ORGANIZER;CN="7seconds":MAILTO:info@7seconds.jp
GEO:35.8631827;139.9758702
X-APPLE-STRUCTURED-LOCATION;VALUE=URI;X-ADDRESS=アミュゼ柏 千葉県柏市柏６丁目２−２２ 柏市柏６丁目２−２２ 千葉県 2770005 日本;X-APPLE-RADIUS=500;X-TITLE=千葉県柏市柏６丁目２−２２:geo:139.9758702,35.8631827
END:VEVENT
BEGIN:VEVENT
DTSTART;TZID=Asia/Tokyo:20270507T180000
DTEND;TZID=Asia/Tokyo:20270507T220000
DTSTAMP:20260420T231009
CREATED:20230812T150641Z
LAST-MODIFIED:20230812T150641Z
UID:10000390-1809712800-1809727200@7buddy.com
SUMMARY:アドラー心理学に学ぶ「悩みを解消する“承認欲求との向き合い方”」
DESCRIPTION:アドラー心理学から、承認欲求の問題点と、人間関係の悩みを解消できる「適切な承認欲求との向き合い方」を学べる勉強会です
URL:https://7buddy.com/community/event/ad01/2027-05-07/
LOCATION:アミュゼ柏\, 千葉県柏市柏６丁目２−２２\, 柏市柏６丁目２−２２\, 千葉県\, 2770005\, 日本
CATEGORIES:心理学
ATTACH;FMTTYPE=image/jpeg:https://7buddy.com/community/wp-content/uploads/2023/08/1_DIpg-kS0ZbdJ9XxThTp4kw.jpg
ORGANIZER;CN="7seconds":MAILTO:info@7seconds.jp
GEO:35.8631827;139.9758702
X-APPLE-STRUCTURED-LOCATION;VALUE=URI;X-ADDRESS=アミュゼ柏 千葉県柏市柏６丁目２−２２ 柏市柏６丁目２−２２ 千葉県 2770005 日本;X-APPLE-RADIUS=500;X-TITLE=千葉県柏市柏６丁目２−２２:geo:139.9758702,35.8631827
END:VEVENT
BEGIN:VEVENT
DTSTART;TZID=Asia/Tokyo:20270511T180000
DTEND;TZID=Asia/Tokyo:20270511T220000
DTSTAMP:20260420T231009
CREATED:20230812T150641Z
LAST-MODIFIED:20230812T150641Z
UID:10000391-1810058400-1810072800@7buddy.com
SUMMARY:アドラー心理学に学ぶ「悩みを解消する“承認欲求との向き合い方”」
DESCRIPTION:アドラー心理学から、承認欲求の問題点と、人間関係の悩みを解消できる「適切な承認欲求との向き合い方」を学べる勉強会です
URL:https://7buddy.com/community/event/ad01/2027-05-11/
LOCATION:アミュゼ柏\, 千葉県柏市柏６丁目２−２２\, 柏市柏６丁目２−２２\, 千葉県\, 2770005\, 日本
CATEGORIES:心理学
ATTACH;FMTTYPE=image/jpeg:https://7buddy.com/community/wp-content/uploads/2023/08/1_DIpg-kS0ZbdJ9XxThTp4kw.jpg
ORGANIZER;CN="7seconds":MAILTO:info@7seconds.jp
GEO:35.8631827;139.9758702
X-APPLE-STRUCTURED-LOCATION;VALUE=URI;X-ADDRESS=アミュゼ柏 千葉県柏市柏６丁目２−２２ 柏市柏６丁目２−２２ 千葉県 2770005 日本;X-APPLE-RADIUS=500;X-TITLE=千葉県柏市柏６丁目２−２２:geo:139.9758702,35.8631827
END:VEVENT
BEGIN:VEVENT
DTSTART;TZID=Asia/Tokyo:20270514T180000
DTEND;TZID=Asia/Tokyo:20270514T220000
DTSTAMP:20260420T231009
CREATED:20230812T150641Z
LAST-MODIFIED:20230812T150641Z
UID:10000392-1810317600-1810332000@7buddy.com
SUMMARY:アドラー心理学に学ぶ「悩みを解消する“承認欲求との向き合い方”」
DESCRIPTION:アドラー心理学から、承認欲求の問題点と、人間関係の悩みを解消できる「適切な承認欲求との向き合い方」を学べる勉強会です
URL:https://7buddy.com/community/event/ad01/2027-05-14/
LOCATION:アミュゼ柏\, 千葉県柏市柏６丁目２−２２\, 柏市柏６丁目２−２２\, 千葉県\, 2770005\, 日本
CATEGORIES:心理学
ATTACH;FMTTYPE=image/jpeg:https://7buddy.com/community/wp-content/uploads/2023/08/1_DIpg-kS0ZbdJ9XxThTp4kw.jpg
ORGANIZER;CN="7seconds":MAILTO:info@7seconds.jp
GEO:35.8631827;139.9758702
X-APPLE-STRUCTURED-LOCATION;VALUE=URI;X-ADDRESS=アミュゼ柏 千葉県柏市柏６丁目２−２２ 柏市柏６丁目２−２２ 千葉県 2770005 日本;X-APPLE-RADIUS=500;X-TITLE=千葉県柏市柏６丁目２−２２:geo:139.9758702,35.8631827
END:VEVENT
BEGIN:VEVENT
DTSTART;TZID=Asia/Tokyo:20270518T180000
DTEND;TZID=Asia/Tokyo:20270518T220000
DTSTAMP:20260420T231009
CREATED:20230812T150641Z
LAST-MODIFIED:20230812T150641Z
UID:10000393-1810663200-1810677600@7buddy.com
SUMMARY:アドラー心理学に学ぶ「悩みを解消する“承認欲求との向き合い方”」
DESCRIPTION:アドラー心理学から、承認欲求の問題点と、人間関係の悩みを解消できる「適切な承認欲求との向き合い方」を学べる勉強会です
URL:https://7buddy.com/community/event/ad01/2027-05-18/
LOCATION:アミュゼ柏\, 千葉県柏市柏６丁目２−２２\, 柏市柏６丁目２−２２\, 千葉県\, 2770005\, 日本
CATEGORIES:心理学
ATTACH;FMTTYPE=image/jpeg:https://7buddy.com/community/wp-content/uploads/2023/08/1_DIpg-kS0ZbdJ9XxThTp4kw.jpg
ORGANIZER;CN="7seconds":MAILTO:info@7seconds.jp
GEO:35.8631827;139.9758702
X-APPLE-STRUCTURED-LOCATION;VALUE=URI;X-ADDRESS=アミュゼ柏 千葉県柏市柏６丁目２−２２ 柏市柏６丁目２−２２ 千葉県 2770005 日本;X-APPLE-RADIUS=500;X-TITLE=千葉県柏市柏６丁目２−２２:geo:139.9758702,35.8631827
END:VEVENT
BEGIN:VEVENT
DTSTART;TZID=Asia/Tokyo:20270521T180000
DTEND;TZID=Asia/Tokyo:20270521T220000
DTSTAMP:20260420T231009
CREATED:20230812T150641Z
LAST-MODIFIED:20230812T150641Z
UID:10000394-1810922400-1810936800@7buddy.com
SUMMARY:アドラー心理学に学ぶ「悩みを解消する“承認欲求との向き合い方”」
DESCRIPTION:アドラー心理学から、承認欲求の問題点と、人間関係の悩みを解消できる「適切な承認欲求との向き合い方」を学べる勉強会です
URL:https://7buddy.com/community/event/ad01/2027-05-21/
LOCATION:アミュゼ柏\, 千葉県柏市柏６丁目２−２２\, 柏市柏６丁目２−２２\, 千葉県\, 2770005\, 日本
CATEGORIES:心理学
ATTACH;FMTTYPE=image/jpeg:https://7buddy.com/community/wp-content/uploads/2023/08/1_DIpg-kS0ZbdJ9XxThTp4kw.jpg
ORGANIZER;CN="7seconds":MAILTO:info@7seconds.jp
GEO:35.8631827;139.9758702
X-APPLE-STRUCTURED-LOCATION;VALUE=URI;X-ADDRESS=アミュゼ柏 千葉県柏市柏６丁目２−２２ 柏市柏６丁目２−２２ 千葉県 2770005 日本;X-APPLE-RADIUS=500;X-TITLE=千葉県柏市柏６丁目２−２２:geo:139.9758702,35.8631827
END:VEVENT
BEGIN:VEVENT
DTSTART;TZID=Asia/Tokyo:20270525T180000
DTEND;TZID=Asia/Tokyo:20270525T220000
DTSTAMP:20260420T231009
CREATED:20230812T150641Z
LAST-MODIFIED:20230812T150641Z
UID:10000395-1811268000-1811282400@7buddy.com
SUMMARY:アドラー心理学に学ぶ「悩みを解消する“承認欲求との向き合い方”」
DESCRIPTION:アドラー心理学から、承認欲求の問題点と、人間関係の悩みを解消できる「適切な承認欲求との向き合い方」を学べる勉強会です
URL:https://7buddy.com/community/event/ad01/2027-05-25/
LOCATION:アミュゼ柏\, 千葉県柏市柏６丁目２−２２\, 柏市柏６丁目２−２２\, 千葉県\, 2770005\, 日本
CATEGORIES:心理学
ATTACH;FMTTYPE=image/jpeg:https://7buddy.com/community/wp-content/uploads/2023/08/1_DIpg-kS0ZbdJ9XxThTp4kw.jpg
ORGANIZER;CN="7seconds":MAILTO:info@7seconds.jp
GEO:35.8631827;139.9758702
X-APPLE-STRUCTURED-LOCATION;VALUE=URI;X-ADDRESS=アミュゼ柏 千葉県柏市柏６丁目２−２２ 柏市柏６丁目２−２２ 千葉県 2770005 日本;X-APPLE-RADIUS=500;X-TITLE=千葉県柏市柏６丁目２−２２:geo:139.9758702,35.8631827
END:VEVENT
BEGIN:VEVENT
DTSTART;TZID=Asia/Tokyo:20270528T180000
DTEND;TZID=Asia/Tokyo:20270528T220000
DTSTAMP:20260420T231009
CREATED:20230812T150641Z
LAST-MODIFIED:20230812T150641Z
UID:10000396-1811527200-1811541600@7buddy.com
SUMMARY:アドラー心理学に学ぶ「悩みを解消する“承認欲求との向き合い方”」
DESCRIPTION:アドラー心理学から、承認欲求の問題点と、人間関係の悩みを解消できる「適切な承認欲求との向き合い方」を学べる勉強会です
URL:https://7buddy.com/community/event/ad01/2027-05-28/
LOCATION:アミュゼ柏\, 千葉県柏市柏６丁目２−２２\, 柏市柏６丁目２−２２\, 千葉県\, 2770005\, 日本
CATEGORIES:心理学
ATTACH;FMTTYPE=image/jpeg:https://7buddy.com/community/wp-content/uploads/2023/08/1_DIpg-kS0ZbdJ9XxThTp4kw.jpg
ORGANIZER;CN="7seconds":MAILTO:info@7seconds.jp
GEO:35.8631827;139.9758702
X-APPLE-STRUCTURED-LOCATION;VALUE=URI;X-ADDRESS=アミュゼ柏 千葉県柏市柏６丁目２−２２ 柏市柏６丁目２−２２ 千葉県 2770005 日本;X-APPLE-RADIUS=500;X-TITLE=千葉県柏市柏６丁目２−２２:geo:139.9758702,35.8631827
END:VEVENT
BEGIN:VEVENT
DTSTART;TZID=Asia/Tokyo:20270601T180000
DTEND;TZID=Asia/Tokyo:20270601T220000
DTSTAMP:20260420T231009
CREATED:20230812T150641Z
LAST-MODIFIED:20230812T150641Z
UID:10000397-1811872800-1811887200@7buddy.com
SUMMARY:アドラー心理学に学ぶ「悩みを解消する“承認欲求との向き合い方”」
DESCRIPTION:アドラー心理学から、承認欲求の問題点と、人間関係の悩みを解消できる「適切な承認欲求との向き合い方」を学べる勉強会です
URL:https://7buddy.com/community/event/ad01/2027-06-01/
LOCATION:アミュゼ柏\, 千葉県柏市柏６丁目２−２２\, 柏市柏６丁目２−２２\, 千葉県\, 2770005\, 日本
CATEGORIES:心理学
ATTACH;FMTTYPE=image/jpeg:https://7buddy.com/community/wp-content/uploads/2023/08/1_DIpg-kS0ZbdJ9XxThTp4kw.jpg
ORGANIZER;CN="7seconds":MAILTO:info@7seconds.jp
GEO:35.8631827;139.9758702
X-APPLE-STRUCTURED-LOCATION;VALUE=URI;X-ADDRESS=アミュゼ柏 千葉県柏市柏６丁目２−２２ 柏市柏６丁目２−２２ 千葉県 2770005 日本;X-APPLE-RADIUS=500;X-TITLE=千葉県柏市柏６丁目２−２２:geo:139.9758702,35.8631827
END:VEVENT
BEGIN:VEVENT
DTSTART;TZID=Asia/Tokyo:20270604T180000
DTEND;TZID=Asia/Tokyo:20270604T220000
DTSTAMP:20260420T231009
CREATED:20230812T150641Z
LAST-MODIFIED:20230812T150641Z
UID:10000398-1812132000-1812146400@7buddy.com
SUMMARY:アドラー心理学に学ぶ「悩みを解消する“承認欲求との向き合い方”」
DESCRIPTION:アドラー心理学から、承認欲求の問題点と、人間関係の悩みを解消できる「適切な承認欲求との向き合い方」を学べる勉強会です
URL:https://7buddy.com/community/event/ad01/2027-06-04/
LOCATION:アミュゼ柏\, 千葉県柏市柏６丁目２−２２\, 柏市柏６丁目２−２２\, 千葉県\, 2770005\, 日本
CATEGORIES:心理学
ATTACH;FMTTYPE=image/jpeg:https://7buddy.com/community/wp-content/uploads/2023/08/1_DIpg-kS0ZbdJ9XxThTp4kw.jpg
ORGANIZER;CN="7seconds":MAILTO:info@7seconds.jp
GEO:35.8631827;139.9758702
X-APPLE-STRUCTURED-LOCATION;VALUE=URI;X-ADDRESS=アミュゼ柏 千葉県柏市柏６丁目２−２２ 柏市柏６丁目２−２２ 千葉県 2770005 日本;X-APPLE-RADIUS=500;X-TITLE=千葉県柏市柏６丁目２−２２:geo:139.9758702,35.8631827
END:VEVENT
BEGIN:VEVENT
DTSTART;TZID=Asia/Tokyo:20270608T180000
DTEND;TZID=Asia/Tokyo:20270608T220000
DTSTAMP:20260420T231009
CREATED:20230812T150641Z
LAST-MODIFIED:20230812T150641Z
UID:10000399-1812477600-1812492000@7buddy.com
SUMMARY:アドラー心理学に学ぶ「悩みを解消する“承認欲求との向き合い方”」
DESCRIPTION:アドラー心理学から、承認欲求の問題点と、人間関係の悩みを解消できる「適切な承認欲求との向き合い方」を学べる勉強会です
URL:https://7buddy.com/community/event/ad01/2027-06-08/
LOCATION:アミュゼ柏\, 千葉県柏市柏６丁目２−２２\, 柏市柏６丁目２−２２\, 千葉県\, 2770005\, 日本
CATEGORIES:心理学
ATTACH;FMTTYPE=image/jpeg:https://7buddy.com/community/wp-content/uploads/2023/08/1_DIpg-kS0ZbdJ9XxThTp4kw.jpg
ORGANIZER;CN="7seconds":MAILTO:info@7seconds.jp
GEO:35.8631827;139.9758702
X-APPLE-STRUCTURED-LOCATION;VALUE=URI;X-ADDRESS=アミュゼ柏 千葉県柏市柏６丁目２−２２ 柏市柏６丁目２−２２ 千葉県 2770005 日本;X-APPLE-RADIUS=500;X-TITLE=千葉県柏市柏６丁目２−２２:geo:139.9758702,35.8631827
END:VEVENT
BEGIN:VEVENT
DTSTART;TZID=Asia/Tokyo:20270611T180000
DTEND;TZID=Asia/Tokyo:20270611T220000
DTSTAMP:20260420T231009
CREATED:20230812T150641Z
LAST-MODIFIED:20230812T150641Z
UID:10000400-1812736800-1812751200@7buddy.com
SUMMARY:アドラー心理学に学ぶ「悩みを解消する“承認欲求との向き合い方”」
DESCRIPTION:アドラー心理学から、承認欲求の問題点と、人間関係の悩みを解消できる「適切な承認欲求との向き合い方」を学べる勉強会です
URL:https://7buddy.com/community/event/ad01/2027-06-11/
LOCATION:アミュゼ柏\, 千葉県柏市柏６丁目２−２２\, 柏市柏６丁目２−２２\, 千葉県\, 2770005\, 日本
CATEGORIES:心理学
ATTACH;FMTTYPE=image/jpeg:https://7buddy.com/community/wp-content/uploads/2023/08/1_DIpg-kS0ZbdJ9XxThTp4kw.jpg
ORGANIZER;CN="7seconds":MAILTO:info@7seconds.jp
GEO:35.8631827;139.9758702
X-APPLE-STRUCTURED-LOCATION;VALUE=URI;X-ADDRESS=アミュゼ柏 千葉県柏市柏６丁目２−２２ 柏市柏６丁目２−２２ 千葉県 2770005 日本;X-APPLE-RADIUS=500;X-TITLE=千葉県柏市柏６丁目２−２２:geo:139.9758702,35.8631827
END:VEVENT
BEGIN:VEVENT
DTSTART;TZID=Asia/Tokyo:20270615T180000
DTEND;TZID=Asia/Tokyo:20270615T220000
DTSTAMP:20260420T231009
CREATED:20230812T150641Z
LAST-MODIFIED:20230812T150641Z
UID:10000401-1813082400-1813096800@7buddy.com
SUMMARY:アドラー心理学に学ぶ「悩みを解消する“承認欲求との向き合い方”」
DESCRIPTION:アドラー心理学から、承認欲求の問題点と、人間関係の悩みを解消できる「適切な承認欲求との向き合い方」を学べる勉強会です
URL:https://7buddy.com/community/event/ad01/2027-06-15/
LOCATION:アミュゼ柏\, 千葉県柏市柏６丁目２−２２\, 柏市柏６丁目２−２２\, 千葉県\, 2770005\, 日本
CATEGORIES:心理学
ATTACH;FMTTYPE=image/jpeg:https://7buddy.com/community/wp-content/uploads/2023/08/1_DIpg-kS0ZbdJ9XxThTp4kw.jpg
ORGANIZER;CN="7seconds":MAILTO:info@7seconds.jp
GEO:35.8631827;139.9758702
X-APPLE-STRUCTURED-LOCATION;VALUE=URI;X-ADDRESS=アミュゼ柏 千葉県柏市柏６丁目２−２２ 柏市柏６丁目２−２２ 千葉県 2770005 日本;X-APPLE-RADIUS=500;X-TITLE=千葉県柏市柏６丁目２−２２:geo:139.9758702,35.8631827
END:VEVENT
BEGIN:VEVENT
DTSTART;TZID=Asia/Tokyo:20270618T180000
DTEND;TZID=Asia/Tokyo:20270618T220000
DTSTAMP:20260420T231009
CREATED:20230812T150641Z
LAST-MODIFIED:20230812T150641Z
UID:10000402-1813341600-1813356000@7buddy.com
SUMMARY:アドラー心理学に学ぶ「悩みを解消する“承認欲求との向き合い方”」
DESCRIPTION:アドラー心理学から、承認欲求の問題点と、人間関係の悩みを解消できる「適切な承認欲求との向き合い方」を学べる勉強会です
URL:https://7buddy.com/community/event/ad01/2027-06-18/
LOCATION:アミュゼ柏\, 千葉県柏市柏６丁目２−２２\, 柏市柏６丁目２−２２\, 千葉県\, 2770005\, 日本
CATEGORIES:心理学
ATTACH;FMTTYPE=image/jpeg:https://7buddy.com/community/wp-content/uploads/2023/08/1_DIpg-kS0ZbdJ9XxThTp4kw.jpg
ORGANIZER;CN="7seconds":MAILTO:info@7seconds.jp
GEO:35.8631827;139.9758702
X-APPLE-STRUCTURED-LOCATION;VALUE=URI;X-ADDRESS=アミュゼ柏 千葉県柏市柏６丁目２−２２ 柏市柏６丁目２−２２ 千葉県 2770005 日本;X-APPLE-RADIUS=500;X-TITLE=千葉県柏市柏６丁目２−２２:geo:139.9758702,35.8631827
END:VEVENT
BEGIN:VEVENT
DTSTART;TZID=Asia/Tokyo:20270622T180000
DTEND;TZID=Asia/Tokyo:20270622T220000
DTSTAMP:20260420T231009
CREATED:20230812T150641Z
LAST-MODIFIED:20230812T150641Z
UID:10000403-1813687200-1813701600@7buddy.com
SUMMARY:アドラー心理学に学ぶ「悩みを解消する“承認欲求との向き合い方”」
DESCRIPTION:アドラー心理学から、承認欲求の問題点と、人間関係の悩みを解消できる「適切な承認欲求との向き合い方」を学べる勉強会です
URL:https://7buddy.com/community/event/ad01/2027-06-22/
LOCATION:アミュゼ柏\, 千葉県柏市柏６丁目２−２２\, 柏市柏６丁目２−２２\, 千葉県\, 2770005\, 日本
CATEGORIES:心理学
ATTACH;FMTTYPE=image/jpeg:https://7buddy.com/community/wp-content/uploads/2023/08/1_DIpg-kS0ZbdJ9XxThTp4kw.jpg
ORGANIZER;CN="7seconds":MAILTO:info@7seconds.jp
GEO:35.8631827;139.9758702
X-APPLE-STRUCTURED-LOCATION;VALUE=URI;X-ADDRESS=アミュゼ柏 千葉県柏市柏６丁目２−２２ 柏市柏６丁目２−２２ 千葉県 2770005 日本;X-APPLE-RADIUS=500;X-TITLE=千葉県柏市柏６丁目２−２２:geo:139.9758702,35.8631827
END:VEVENT
BEGIN:VEVENT
DTSTART;TZID=Asia/Tokyo:20270625T180000
DTEND;TZID=Asia/Tokyo:20270625T220000
DTSTAMP:20260420T231009
CREATED:20230812T150641Z
LAST-MODIFIED:20230812T150641Z
UID:10000404-1813946400-1813960800@7buddy.com
SUMMARY:アドラー心理学に学ぶ「悩みを解消する“承認欲求との向き合い方”」
DESCRIPTION:アドラー心理学から、承認欲求の問題点と、人間関係の悩みを解消できる「適切な承認欲求との向き合い方」を学べる勉強会です
URL:https://7buddy.com/community/event/ad01/2027-06-25/
LOCATION:アミュゼ柏\, 千葉県柏市柏６丁目２−２２\, 柏市柏６丁目２−２２\, 千葉県\, 2770005\, 日本
CATEGORIES:心理学
ATTACH;FMTTYPE=image/jpeg:https://7buddy.com/community/wp-content/uploads/2023/08/1_DIpg-kS0ZbdJ9XxThTp4kw.jpg
ORGANIZER;CN="7seconds":MAILTO:info@7seconds.jp
GEO:35.8631827;139.9758702
X-APPLE-STRUCTURED-LOCATION;VALUE=URI;X-ADDRESS=アミュゼ柏 千葉県柏市柏６丁目２−２２ 柏市柏６丁目２−２２ 千葉県 2770005 日本;X-APPLE-RADIUS=500;X-TITLE=千葉県柏市柏６丁目２−２２:geo:139.9758702,35.8631827
END:VEVENT
BEGIN:VEVENT
DTSTART;TZID=Asia/Tokyo:20270629T180000
DTEND;TZID=Asia/Tokyo:20270629T220000
DTSTAMP:20260420T231009
CREATED:20230812T150641Z
LAST-MODIFIED:20230812T150641Z
UID:10000405-1814292000-1814306400@7buddy.com
SUMMARY:アドラー心理学に学ぶ「悩みを解消する“承認欲求との向き合い方”」
DESCRIPTION:アドラー心理学から、承認欲求の問題点と、人間関係の悩みを解消できる「適切な承認欲求との向き合い方」を学べる勉強会です
URL:https://7buddy.com/community/event/ad01/2027-06-29/
LOCATION:アミュゼ柏\, 千葉県柏市柏６丁目２−２２\, 柏市柏６丁目２−２２\, 千葉県\, 2770005\, 日本
CATEGORIES:心理学
ATTACH;FMTTYPE=image/jpeg:https://7buddy.com/community/wp-content/uploads/2023/08/1_DIpg-kS0ZbdJ9XxThTp4kw.jpg
ORGANIZER;CN="7seconds":MAILTO:info@7seconds.jp
GEO:35.8631827;139.9758702
X-APPLE-STRUCTURED-LOCATION;VALUE=URI;X-ADDRESS=アミュゼ柏 千葉県柏市柏６丁目２−２２ 柏市柏６丁目２−２２ 千葉県 2770005 日本;X-APPLE-RADIUS=500;X-TITLE=千葉県柏市柏６丁目２−２２:geo:139.9758702,35.8631827
END:VEVENT
BEGIN:VEVENT
DTSTART;TZID=Asia/Tokyo:20270702T180000
DTEND;TZID=Asia/Tokyo:20270702T220000
DTSTAMP:20260420T231009
CREATED:20230812T150641Z
LAST-MODIFIED:20230812T150641Z
UID:10000406-1814551200-1814565600@7buddy.com
SUMMARY:アドラー心理学に学ぶ「悩みを解消する“承認欲求との向き合い方”」
DESCRIPTION:アドラー心理学から、承認欲求の問題点と、人間関係の悩みを解消できる「適切な承認欲求との向き合い方」を学べる勉強会です
URL:https://7buddy.com/community/event/ad01/2027-07-02/
LOCATION:アミュゼ柏\, 千葉県柏市柏６丁目２−２２\, 柏市柏６丁目２−２２\, 千葉県\, 2770005\, 日本
CATEGORIES:心理学
ATTACH;FMTTYPE=image/jpeg:https://7buddy.com/community/wp-content/uploads/2023/08/1_DIpg-kS0ZbdJ9XxThTp4kw.jpg
ORGANIZER;CN="7seconds":MAILTO:info@7seconds.jp
GEO:35.8631827;139.9758702
X-APPLE-STRUCTURED-LOCATION;VALUE=URI;X-ADDRESS=アミュゼ柏 千葉県柏市柏６丁目２−２２ 柏市柏６丁目２−２２ 千葉県 2770005 日本;X-APPLE-RADIUS=500;X-TITLE=千葉県柏市柏６丁目２−２２:geo:139.9758702,35.8631827
END:VEVENT
BEGIN:VEVENT
DTSTART;TZID=Asia/Tokyo:20270706T180000
DTEND;TZID=Asia/Tokyo:20270706T220000
DTSTAMP:20260420T231009
CREATED:20230812T150641Z
LAST-MODIFIED:20230812T150641Z
UID:10000407-1814896800-1814911200@7buddy.com
SUMMARY:アドラー心理学に学ぶ「悩みを解消する“承認欲求との向き合い方”」
DESCRIPTION:アドラー心理学から、承認欲求の問題点と、人間関係の悩みを解消できる「適切な承認欲求との向き合い方」を学べる勉強会です
URL:https://7buddy.com/community/event/ad01/2027-07-06/
LOCATION:アミュゼ柏\, 千葉県柏市柏６丁目２−２２\, 柏市柏６丁目２−２２\, 千葉県\, 2770005\, 日本
CATEGORIES:心理学
ATTACH;FMTTYPE=image/jpeg:https://7buddy.com/community/wp-content/uploads/2023/08/1_DIpg-kS0ZbdJ9XxThTp4kw.jpg
ORGANIZER;CN="7seconds":MAILTO:info@7seconds.jp
GEO:35.8631827;139.9758702
X-APPLE-STRUCTURED-LOCATION;VALUE=URI;X-ADDRESS=アミュゼ柏 千葉県柏市柏６丁目２−２２ 柏市柏６丁目２−２２ 千葉県 2770005 日本;X-APPLE-RADIUS=500;X-TITLE=千葉県柏市柏６丁目２−２２:geo:139.9758702,35.8631827
END:VEVENT
BEGIN:VEVENT
DTSTART;TZID=Asia/Tokyo:20270709T180000
DTEND;TZID=Asia/Tokyo:20270709T220000
DTSTAMP:20260420T231009
CREATED:20230812T150641Z
LAST-MODIFIED:20230812T150641Z
UID:10000408-1815156000-1815170400@7buddy.com
SUMMARY:アドラー心理学に学ぶ「悩みを解消する“承認欲求との向き合い方”」
DESCRIPTION:アドラー心理学から、承認欲求の問題点と、人間関係の悩みを解消できる「適切な承認欲求との向き合い方」を学べる勉強会です
URL:https://7buddy.com/community/event/ad01/2027-07-09/
LOCATION:アミュゼ柏\, 千葉県柏市柏６丁目２−２２\, 柏市柏６丁目２−２２\, 千葉県\, 2770005\, 日本
CATEGORIES:心理学
ATTACH;FMTTYPE=image/jpeg:https://7buddy.com/community/wp-content/uploads/2023/08/1_DIpg-kS0ZbdJ9XxThTp4kw.jpg
ORGANIZER;CN="7seconds":MAILTO:info@7seconds.jp
GEO:35.8631827;139.9758702
X-APPLE-STRUCTURED-LOCATION;VALUE=URI;X-ADDRESS=アミュゼ柏 千葉県柏市柏６丁目２−２２ 柏市柏６丁目２−２２ 千葉県 2770005 日本;X-APPLE-RADIUS=500;X-TITLE=千葉県柏市柏６丁目２−２２:geo:139.9758702,35.8631827
END:VEVENT
BEGIN:VEVENT
DTSTART;TZID=Asia/Tokyo:20270713T180000
DTEND;TZID=Asia/Tokyo:20270713T220000
DTSTAMP:20260420T231009
CREATED:20230812T150641Z
LAST-MODIFIED:20230812T150641Z
UID:10000409-1815501600-1815516000@7buddy.com
SUMMARY:アドラー心理学に学ぶ「悩みを解消する“承認欲求との向き合い方”」
DESCRIPTION:アドラー心理学から、承認欲求の問題点と、人間関係の悩みを解消できる「適切な承認欲求との向き合い方」を学べる勉強会です
URL:https://7buddy.com/community/event/ad01/2027-07-13/
LOCATION:アミュゼ柏\, 千葉県柏市柏６丁目２−２２\, 柏市柏６丁目２−２２\, 千葉県\, 2770005\, 日本
CATEGORIES:心理学
ATTACH;FMTTYPE=image/jpeg:https://7buddy.com/community/wp-content/uploads/2023/08/1_DIpg-kS0ZbdJ9XxThTp4kw.jpg
ORGANIZER;CN="7seconds":MAILTO:info@7seconds.jp
GEO:35.8631827;139.9758702
X-APPLE-STRUCTURED-LOCATION;VALUE=URI;X-ADDRESS=アミュゼ柏 千葉県柏市柏６丁目２−２２ 柏市柏６丁目２−２２ 千葉県 2770005 日本;X-APPLE-RADIUS=500;X-TITLE=千葉県柏市柏６丁目２−２２:geo:139.9758702,35.8631827
END:VEVENT
BEGIN:VEVENT
DTSTART;TZID=Asia/Tokyo:20270716T180000
DTEND;TZID=Asia/Tokyo:20270716T220000
DTSTAMP:20260420T231009
CREATED:20230812T150641Z
LAST-MODIFIED:20230812T150641Z
UID:10000410-1815760800-1815775200@7buddy.com
SUMMARY:アドラー心理学に学ぶ「悩みを解消する“承認欲求との向き合い方”」
DESCRIPTION:アドラー心理学から、承認欲求の問題点と、人間関係の悩みを解消できる「適切な承認欲求との向き合い方」を学べる勉強会です
URL:https://7buddy.com/community/event/ad01/2027-07-16/
LOCATION:アミュゼ柏\, 千葉県柏市柏６丁目２−２２\, 柏市柏６丁目２−２２\, 千葉県\, 2770005\, 日本
CATEGORIES:心理学
ATTACH;FMTTYPE=image/jpeg:https://7buddy.com/community/wp-content/uploads/2023/08/1_DIpg-kS0ZbdJ9XxThTp4kw.jpg
ORGANIZER;CN="7seconds":MAILTO:info@7seconds.jp
GEO:35.8631827;139.9758702
X-APPLE-STRUCTURED-LOCATION;VALUE=URI;X-ADDRESS=アミュゼ柏 千葉県柏市柏６丁目２−２２ 柏市柏６丁目２−２２ 千葉県 2770005 日本;X-APPLE-RADIUS=500;X-TITLE=千葉県柏市柏６丁目２−２２:geo:139.9758702,35.8631827
END:VEVENT
BEGIN:VEVENT
DTSTART;TZID=Asia/Tokyo:20270720T180000
DTEND;TZID=Asia/Tokyo:20270720T220000
DTSTAMP:20260420T231009
CREATED:20230812T150641Z
LAST-MODIFIED:20230812T150641Z
UID:10000411-1816106400-1816120800@7buddy.com
SUMMARY:アドラー心理学に学ぶ「悩みを解消する“承認欲求との向き合い方”」
DESCRIPTION:アドラー心理学から、承認欲求の問題点と、人間関係の悩みを解消できる「適切な承認欲求との向き合い方」を学べる勉強会です
URL:https://7buddy.com/community/event/ad01/2027-07-20/
LOCATION:アミュゼ柏\, 千葉県柏市柏６丁目２−２２\, 柏市柏６丁目２−２２\, 千葉県\, 2770005\, 日本
CATEGORIES:心理学
ATTACH;FMTTYPE=image/jpeg:https://7buddy.com/community/wp-content/uploads/2023/08/1_DIpg-kS0ZbdJ9XxThTp4kw.jpg
ORGANIZER;CN="7seconds":MAILTO:info@7seconds.jp
GEO:35.8631827;139.9758702
X-APPLE-STRUCTURED-LOCATION;VALUE=URI;X-ADDRESS=アミュゼ柏 千葉県柏市柏６丁目２−２２ 柏市柏６丁目２−２２ 千葉県 2770005 日本;X-APPLE-RADIUS=500;X-TITLE=千葉県柏市柏６丁目２−２２:geo:139.9758702,35.8631827
END:VEVENT
END:VCALENDAR