BEGIN:VCALENDAR
VERSION:2.0
PRODID:-//会員制レッスンコミュニティ - ECPv6.15.20//NONSGML v1.0//EN
CALSCALE:GREGORIAN
METHOD:PUBLISH
X-WR-CALNAME:会員制レッスンコミュニティ
X-ORIGINAL-URL:https://7buddy.com/community
X-WR-CALDESC:会員制レッスンコミュニティ のイベント
REFRESH-INTERVAL;VALUE=DURATION:PT1H
X-Robots-Tag:noindex
X-PUBLISHED-TTL:PT1H
BEGIN:VTIMEZONE
TZID:Asia/Tokyo
BEGIN:STANDARD
TZOFFSETFROM:+0900
TZOFFSETTO:+0900
TZNAME:JST
DTSTART:20250101T000000
END:STANDARD
END:VTIMEZONE
BEGIN:VEVENT
DTSTART;TZID=Asia/Tokyo:20260609T180000
DTEND;TZID=Asia/Tokyo:20260609T220000
DTSTAMP:20260420T150250
CREATED:20230812T150641Z
LAST-MODIFIED:20230812T150641Z
UID:10000295-1781028000-1781042400@7buddy.com
SUMMARY:アドラー心理学に学ぶ「悩みを解消する“承認欲求との向き合い方”」
DESCRIPTION:アドラー心理学から、承認欲求の問題点と、人間関係の悩みを解消できる「適切な承認欲求との向き合い方」を学べる勉強会です
URL:https://7buddy.com/community/event/ad01/2026-06-09/
LOCATION:アミュゼ柏\, 千葉県柏市柏６丁目２−２２\, 柏市柏６丁目２−２２\, 千葉県\, 2770005\, 日本
CATEGORIES:心理学
ATTACH;FMTTYPE=image/jpeg:https://7buddy.com/community/wp-content/uploads/2023/08/1_DIpg-kS0ZbdJ9XxThTp4kw.jpg
ORGANIZER;CN="7seconds":MAILTO:info@7seconds.jp
GEO:35.8631827;139.9758702
X-APPLE-STRUCTURED-LOCATION;VALUE=URI;X-ADDRESS=アミュゼ柏 千葉県柏市柏６丁目２−２２ 柏市柏６丁目２−２２ 千葉県 2770005 日本;X-APPLE-RADIUS=500;X-TITLE=千葉県柏市柏６丁目２−２２:geo:139.9758702,35.8631827
END:VEVENT
BEGIN:VEVENT
DTSTART;TZID=Asia/Tokyo:20260612T180000
DTEND;TZID=Asia/Tokyo:20260612T220000
DTSTAMP:20260420T150250
CREATED:20230812T150641Z
LAST-MODIFIED:20230812T150641Z
UID:10000296-1781287200-1781301600@7buddy.com
SUMMARY:アドラー心理学に学ぶ「悩みを解消する“承認欲求との向き合い方”」
DESCRIPTION:アドラー心理学から、承認欲求の問題点と、人間関係の悩みを解消できる「適切な承認欲求との向き合い方」を学べる勉強会です
URL:https://7buddy.com/community/event/ad01/2026-06-12/
LOCATION:アミュゼ柏\, 千葉県柏市柏６丁目２−２２\, 柏市柏６丁目２−２２\, 千葉県\, 2770005\, 日本
CATEGORIES:心理学
ATTACH;FMTTYPE=image/jpeg:https://7buddy.com/community/wp-content/uploads/2023/08/1_DIpg-kS0ZbdJ9XxThTp4kw.jpg
ORGANIZER;CN="7seconds":MAILTO:info@7seconds.jp
GEO:35.8631827;139.9758702
X-APPLE-STRUCTURED-LOCATION;VALUE=URI;X-ADDRESS=アミュゼ柏 千葉県柏市柏６丁目２−２２ 柏市柏６丁目２−２２ 千葉県 2770005 日本;X-APPLE-RADIUS=500;X-TITLE=千葉県柏市柏６丁目２−２２:geo:139.9758702,35.8631827
END:VEVENT
BEGIN:VEVENT
DTSTART;TZID=Asia/Tokyo:20260616T180000
DTEND;TZID=Asia/Tokyo:20260616T220000
DTSTAMP:20260420T150250
CREATED:20230812T150641Z
LAST-MODIFIED:20230812T150641Z
UID:10000297-1781632800-1781647200@7buddy.com
SUMMARY:アドラー心理学に学ぶ「悩みを解消する“承認欲求との向き合い方”」
DESCRIPTION:アドラー心理学から、承認欲求の問題点と、人間関係の悩みを解消できる「適切な承認欲求との向き合い方」を学べる勉強会です
URL:https://7buddy.com/community/event/ad01/2026-06-16/
LOCATION:アミュゼ柏\, 千葉県柏市柏６丁目２−２２\, 柏市柏６丁目２−２２\, 千葉県\, 2770005\, 日本
CATEGORIES:心理学
ATTACH;FMTTYPE=image/jpeg:https://7buddy.com/community/wp-content/uploads/2023/08/1_DIpg-kS0ZbdJ9XxThTp4kw.jpg
ORGANIZER;CN="7seconds":MAILTO:info@7seconds.jp
GEO:35.8631827;139.9758702
X-APPLE-STRUCTURED-LOCATION;VALUE=URI;X-ADDRESS=アミュゼ柏 千葉県柏市柏６丁目２−２２ 柏市柏６丁目２−２２ 千葉県 2770005 日本;X-APPLE-RADIUS=500;X-TITLE=千葉県柏市柏６丁目２−２２:geo:139.9758702,35.8631827
END:VEVENT
BEGIN:VEVENT
DTSTART;TZID=Asia/Tokyo:20260619T180000
DTEND;TZID=Asia/Tokyo:20260619T220000
DTSTAMP:20260420T150250
CREATED:20230812T150641Z
LAST-MODIFIED:20230812T150641Z
UID:10000298-1781892000-1781906400@7buddy.com
SUMMARY:アドラー心理学に学ぶ「悩みを解消する“承認欲求との向き合い方”」
DESCRIPTION:アドラー心理学から、承認欲求の問題点と、人間関係の悩みを解消できる「適切な承認欲求との向き合い方」を学べる勉強会です
URL:https://7buddy.com/community/event/ad01/2026-06-19/
LOCATION:アミュゼ柏\, 千葉県柏市柏６丁目２−２２\, 柏市柏６丁目２−２２\, 千葉県\, 2770005\, 日本
CATEGORIES:心理学
ATTACH;FMTTYPE=image/jpeg:https://7buddy.com/community/wp-content/uploads/2023/08/1_DIpg-kS0ZbdJ9XxThTp4kw.jpg
ORGANIZER;CN="7seconds":MAILTO:info@7seconds.jp
GEO:35.8631827;139.9758702
X-APPLE-STRUCTURED-LOCATION;VALUE=URI;X-ADDRESS=アミュゼ柏 千葉県柏市柏６丁目２−２２ 柏市柏６丁目２−２２ 千葉県 2770005 日本;X-APPLE-RADIUS=500;X-TITLE=千葉県柏市柏６丁目２−２２:geo:139.9758702,35.8631827
END:VEVENT
BEGIN:VEVENT
DTSTART;TZID=Asia/Tokyo:20260623T180000
DTEND;TZID=Asia/Tokyo:20260623T220000
DTSTAMP:20260420T150250
CREATED:20230812T150641Z
LAST-MODIFIED:20230812T150641Z
UID:10000299-1782237600-1782252000@7buddy.com
SUMMARY:アドラー心理学に学ぶ「悩みを解消する“承認欲求との向き合い方”」
DESCRIPTION:アドラー心理学から、承認欲求の問題点と、人間関係の悩みを解消できる「適切な承認欲求との向き合い方」を学べる勉強会です
URL:https://7buddy.com/community/event/ad01/2026-06-23/
LOCATION:アミュゼ柏\, 千葉県柏市柏６丁目２−２２\, 柏市柏６丁目２−２２\, 千葉県\, 2770005\, 日本
CATEGORIES:心理学
ATTACH;FMTTYPE=image/jpeg:https://7buddy.com/community/wp-content/uploads/2023/08/1_DIpg-kS0ZbdJ9XxThTp4kw.jpg
ORGANIZER;CN="7seconds":MAILTO:info@7seconds.jp
GEO:35.8631827;139.9758702
X-APPLE-STRUCTURED-LOCATION;VALUE=URI;X-ADDRESS=アミュゼ柏 千葉県柏市柏６丁目２−２２ 柏市柏６丁目２−２２ 千葉県 2770005 日本;X-APPLE-RADIUS=500;X-TITLE=千葉県柏市柏６丁目２−２２:geo:139.9758702,35.8631827
END:VEVENT
BEGIN:VEVENT
DTSTART;TZID=Asia/Tokyo:20260626T180000
DTEND;TZID=Asia/Tokyo:20260626T220000
DTSTAMP:20260420T150250
CREATED:20230812T150641Z
LAST-MODIFIED:20230812T150641Z
UID:10000300-1782496800-1782511200@7buddy.com
SUMMARY:アドラー心理学に学ぶ「悩みを解消する“承認欲求との向き合い方”」
DESCRIPTION:アドラー心理学から、承認欲求の問題点と、人間関係の悩みを解消できる「適切な承認欲求との向き合い方」を学べる勉強会です
URL:https://7buddy.com/community/event/ad01/2026-06-26/
LOCATION:アミュゼ柏\, 千葉県柏市柏６丁目２−２２\, 柏市柏６丁目２−２２\, 千葉県\, 2770005\, 日本
CATEGORIES:心理学
ATTACH;FMTTYPE=image/jpeg:https://7buddy.com/community/wp-content/uploads/2023/08/1_DIpg-kS0ZbdJ9XxThTp4kw.jpg
ORGANIZER;CN="7seconds":MAILTO:info@7seconds.jp
GEO:35.8631827;139.9758702
X-APPLE-STRUCTURED-LOCATION;VALUE=URI;X-ADDRESS=アミュゼ柏 千葉県柏市柏６丁目２−２２ 柏市柏６丁目２−２２ 千葉県 2770005 日本;X-APPLE-RADIUS=500;X-TITLE=千葉県柏市柏６丁目２−２２:geo:139.9758702,35.8631827
END:VEVENT
BEGIN:VEVENT
DTSTART;TZID=Asia/Tokyo:20260630T180000
DTEND;TZID=Asia/Tokyo:20260630T220000
DTSTAMP:20260420T150250
CREATED:20230812T150641Z
LAST-MODIFIED:20230812T150641Z
UID:10000301-1782842400-1782856800@7buddy.com
SUMMARY:アドラー心理学に学ぶ「悩みを解消する“承認欲求との向き合い方”」
DESCRIPTION:アドラー心理学から、承認欲求の問題点と、人間関係の悩みを解消できる「適切な承認欲求との向き合い方」を学べる勉強会です
URL:https://7buddy.com/community/event/ad01/2026-06-30/
LOCATION:アミュゼ柏\, 千葉県柏市柏６丁目２−２２\, 柏市柏６丁目２−２２\, 千葉県\, 2770005\, 日本
CATEGORIES:心理学
ATTACH;FMTTYPE=image/jpeg:https://7buddy.com/community/wp-content/uploads/2023/08/1_DIpg-kS0ZbdJ9XxThTp4kw.jpg
ORGANIZER;CN="7seconds":MAILTO:info@7seconds.jp
GEO:35.8631827;139.9758702
X-APPLE-STRUCTURED-LOCATION;VALUE=URI;X-ADDRESS=アミュゼ柏 千葉県柏市柏６丁目２−２２ 柏市柏６丁目２−２２ 千葉県 2770005 日本;X-APPLE-RADIUS=500;X-TITLE=千葉県柏市柏６丁目２−２２:geo:139.9758702,35.8631827
END:VEVENT
BEGIN:VEVENT
DTSTART;TZID=Asia/Tokyo:20260703T180000
DTEND;TZID=Asia/Tokyo:20260703T220000
DTSTAMP:20260420T150250
CREATED:20230812T150641Z
LAST-MODIFIED:20230812T150641Z
UID:10000302-1783101600-1783116000@7buddy.com
SUMMARY:アドラー心理学に学ぶ「悩みを解消する“承認欲求との向き合い方”」
DESCRIPTION:アドラー心理学から、承認欲求の問題点と、人間関係の悩みを解消できる「適切な承認欲求との向き合い方」を学べる勉強会です
URL:https://7buddy.com/community/event/ad01/2026-07-03/
LOCATION:アミュゼ柏\, 千葉県柏市柏６丁目２−２２\, 柏市柏６丁目２−２２\, 千葉県\, 2770005\, 日本
CATEGORIES:心理学
ATTACH;FMTTYPE=image/jpeg:https://7buddy.com/community/wp-content/uploads/2023/08/1_DIpg-kS0ZbdJ9XxThTp4kw.jpg
ORGANIZER;CN="7seconds":MAILTO:info@7seconds.jp
GEO:35.8631827;139.9758702
X-APPLE-STRUCTURED-LOCATION;VALUE=URI;X-ADDRESS=アミュゼ柏 千葉県柏市柏６丁目２−２２ 柏市柏６丁目２−２２ 千葉県 2770005 日本;X-APPLE-RADIUS=500;X-TITLE=千葉県柏市柏６丁目２−２２:geo:139.9758702,35.8631827
END:VEVENT
BEGIN:VEVENT
DTSTART;TZID=Asia/Tokyo:20260707T180000
DTEND;TZID=Asia/Tokyo:20260707T220000
DTSTAMP:20260420T150250
CREATED:20230812T150641Z
LAST-MODIFIED:20230812T150641Z
UID:10000303-1783447200-1783461600@7buddy.com
SUMMARY:アドラー心理学に学ぶ「悩みを解消する“承認欲求との向き合い方”」
DESCRIPTION:アドラー心理学から、承認欲求の問題点と、人間関係の悩みを解消できる「適切な承認欲求との向き合い方」を学べる勉強会です
URL:https://7buddy.com/community/event/ad01/2026-07-07/
LOCATION:アミュゼ柏\, 千葉県柏市柏６丁目２−２２\, 柏市柏６丁目２−２２\, 千葉県\, 2770005\, 日本
CATEGORIES:心理学
ATTACH;FMTTYPE=image/jpeg:https://7buddy.com/community/wp-content/uploads/2023/08/1_DIpg-kS0ZbdJ9XxThTp4kw.jpg
ORGANIZER;CN="7seconds":MAILTO:info@7seconds.jp
GEO:35.8631827;139.9758702
X-APPLE-STRUCTURED-LOCATION;VALUE=URI;X-ADDRESS=アミュゼ柏 千葉県柏市柏６丁目２−２２ 柏市柏６丁目２−２２ 千葉県 2770005 日本;X-APPLE-RADIUS=500;X-TITLE=千葉県柏市柏６丁目２−２２:geo:139.9758702,35.8631827
END:VEVENT
BEGIN:VEVENT
DTSTART;TZID=Asia/Tokyo:20260710T180000
DTEND;TZID=Asia/Tokyo:20260710T220000
DTSTAMP:20260420T150250
CREATED:20230812T150641Z
LAST-MODIFIED:20230812T150641Z
UID:10000304-1783706400-1783720800@7buddy.com
SUMMARY:アドラー心理学に学ぶ「悩みを解消する“承認欲求との向き合い方”」
DESCRIPTION:アドラー心理学から、承認欲求の問題点と、人間関係の悩みを解消できる「適切な承認欲求との向き合い方」を学べる勉強会です
URL:https://7buddy.com/community/event/ad01/2026-07-10/
LOCATION:アミュゼ柏\, 千葉県柏市柏６丁目２−２２\, 柏市柏６丁目２−２２\, 千葉県\, 2770005\, 日本
CATEGORIES:心理学
ATTACH;FMTTYPE=image/jpeg:https://7buddy.com/community/wp-content/uploads/2023/08/1_DIpg-kS0ZbdJ9XxThTp4kw.jpg
ORGANIZER;CN="7seconds":MAILTO:info@7seconds.jp
GEO:35.8631827;139.9758702
X-APPLE-STRUCTURED-LOCATION;VALUE=URI;X-ADDRESS=アミュゼ柏 千葉県柏市柏６丁目２−２２ 柏市柏６丁目２−２２ 千葉県 2770005 日本;X-APPLE-RADIUS=500;X-TITLE=千葉県柏市柏６丁目２−２２:geo:139.9758702,35.8631827
END:VEVENT
BEGIN:VEVENT
DTSTART;TZID=Asia/Tokyo:20260714T180000
DTEND;TZID=Asia/Tokyo:20260714T220000
DTSTAMP:20260420T150250
CREATED:20230812T150641Z
LAST-MODIFIED:20230812T150641Z
UID:10000305-1784052000-1784066400@7buddy.com
SUMMARY:アドラー心理学に学ぶ「悩みを解消する“承認欲求との向き合い方”」
DESCRIPTION:アドラー心理学から、承認欲求の問題点と、人間関係の悩みを解消できる「適切な承認欲求との向き合い方」を学べる勉強会です
URL:https://7buddy.com/community/event/ad01/2026-07-14/
LOCATION:アミュゼ柏\, 千葉県柏市柏６丁目２−２２\, 柏市柏６丁目２−２２\, 千葉県\, 2770005\, 日本
CATEGORIES:心理学
ATTACH;FMTTYPE=image/jpeg:https://7buddy.com/community/wp-content/uploads/2023/08/1_DIpg-kS0ZbdJ9XxThTp4kw.jpg
ORGANIZER;CN="7seconds":MAILTO:info@7seconds.jp
GEO:35.8631827;139.9758702
X-APPLE-STRUCTURED-LOCATION;VALUE=URI;X-ADDRESS=アミュゼ柏 千葉県柏市柏６丁目２−２２ 柏市柏６丁目２−２２ 千葉県 2770005 日本;X-APPLE-RADIUS=500;X-TITLE=千葉県柏市柏６丁目２−２２:geo:139.9758702,35.8631827
END:VEVENT
BEGIN:VEVENT
DTSTART;TZID=Asia/Tokyo:20260717T180000
DTEND;TZID=Asia/Tokyo:20260717T220000
DTSTAMP:20260420T150250
CREATED:20230812T150641Z
LAST-MODIFIED:20230812T150641Z
UID:10000306-1784311200-1784325600@7buddy.com
SUMMARY:アドラー心理学に学ぶ「悩みを解消する“承認欲求との向き合い方”」
DESCRIPTION:アドラー心理学から、承認欲求の問題点と、人間関係の悩みを解消できる「適切な承認欲求との向き合い方」を学べる勉強会です
URL:https://7buddy.com/community/event/ad01/2026-07-17/
LOCATION:アミュゼ柏\, 千葉県柏市柏６丁目２−２２\, 柏市柏６丁目２−２２\, 千葉県\, 2770005\, 日本
CATEGORIES:心理学
ATTACH;FMTTYPE=image/jpeg:https://7buddy.com/community/wp-content/uploads/2023/08/1_DIpg-kS0ZbdJ9XxThTp4kw.jpg
ORGANIZER;CN="7seconds":MAILTO:info@7seconds.jp
GEO:35.8631827;139.9758702
X-APPLE-STRUCTURED-LOCATION;VALUE=URI;X-ADDRESS=アミュゼ柏 千葉県柏市柏６丁目２−２２ 柏市柏６丁目２−２２ 千葉県 2770005 日本;X-APPLE-RADIUS=500;X-TITLE=千葉県柏市柏６丁目２−２２:geo:139.9758702,35.8631827
END:VEVENT
BEGIN:VEVENT
DTSTART;TZID=Asia/Tokyo:20260721T180000
DTEND;TZID=Asia/Tokyo:20260721T220000
DTSTAMP:20260420T150250
CREATED:20230812T150641Z
LAST-MODIFIED:20230812T150641Z
UID:10000307-1784656800-1784671200@7buddy.com
SUMMARY:アドラー心理学に学ぶ「悩みを解消する“承認欲求との向き合い方”」
DESCRIPTION:アドラー心理学から、承認欲求の問題点と、人間関係の悩みを解消できる「適切な承認欲求との向き合い方」を学べる勉強会です
URL:https://7buddy.com/community/event/ad01/2026-07-21/
LOCATION:アミュゼ柏\, 千葉県柏市柏６丁目２−２２\, 柏市柏６丁目２−２２\, 千葉県\, 2770005\, 日本
CATEGORIES:心理学
ATTACH;FMTTYPE=image/jpeg:https://7buddy.com/community/wp-content/uploads/2023/08/1_DIpg-kS0ZbdJ9XxThTp4kw.jpg
ORGANIZER;CN="7seconds":MAILTO:info@7seconds.jp
GEO:35.8631827;139.9758702
X-APPLE-STRUCTURED-LOCATION;VALUE=URI;X-ADDRESS=アミュゼ柏 千葉県柏市柏６丁目２−２２ 柏市柏６丁目２−２２ 千葉県 2770005 日本;X-APPLE-RADIUS=500;X-TITLE=千葉県柏市柏６丁目２−２２:geo:139.9758702,35.8631827
END:VEVENT
BEGIN:VEVENT
DTSTART;TZID=Asia/Tokyo:20260724T180000
DTEND;TZID=Asia/Tokyo:20260724T220000
DTSTAMP:20260420T150250
CREATED:20230812T150641Z
LAST-MODIFIED:20230812T150641Z
UID:10000308-1784916000-1784930400@7buddy.com
SUMMARY:アドラー心理学に学ぶ「悩みを解消する“承認欲求との向き合い方”」
DESCRIPTION:アドラー心理学から、承認欲求の問題点と、人間関係の悩みを解消できる「適切な承認欲求との向き合い方」を学べる勉強会です
URL:https://7buddy.com/community/event/ad01/2026-07-24/
LOCATION:アミュゼ柏\, 千葉県柏市柏６丁目２−２２\, 柏市柏６丁目２−２２\, 千葉県\, 2770005\, 日本
CATEGORIES:心理学
ATTACH;FMTTYPE=image/jpeg:https://7buddy.com/community/wp-content/uploads/2023/08/1_DIpg-kS0ZbdJ9XxThTp4kw.jpg
ORGANIZER;CN="7seconds":MAILTO:info@7seconds.jp
GEO:35.8631827;139.9758702
X-APPLE-STRUCTURED-LOCATION;VALUE=URI;X-ADDRESS=アミュゼ柏 千葉県柏市柏６丁目２−２２ 柏市柏６丁目２−２２ 千葉県 2770005 日本;X-APPLE-RADIUS=500;X-TITLE=千葉県柏市柏６丁目２−２２:geo:139.9758702,35.8631827
END:VEVENT
BEGIN:VEVENT
DTSTART;TZID=Asia/Tokyo:20260728T180000
DTEND;TZID=Asia/Tokyo:20260728T220000
DTSTAMP:20260420T150250
CREATED:20230812T150641Z
LAST-MODIFIED:20230812T150641Z
UID:10000309-1785261600-1785276000@7buddy.com
SUMMARY:アドラー心理学に学ぶ「悩みを解消する“承認欲求との向き合い方”」
DESCRIPTION:アドラー心理学から、承認欲求の問題点と、人間関係の悩みを解消できる「適切な承認欲求との向き合い方」を学べる勉強会です
URL:https://7buddy.com/community/event/ad01/2026-07-28/
LOCATION:アミュゼ柏\, 千葉県柏市柏６丁目２−２２\, 柏市柏６丁目２−２２\, 千葉県\, 2770005\, 日本
CATEGORIES:心理学
ATTACH;FMTTYPE=image/jpeg:https://7buddy.com/community/wp-content/uploads/2023/08/1_DIpg-kS0ZbdJ9XxThTp4kw.jpg
ORGANIZER;CN="7seconds":MAILTO:info@7seconds.jp
GEO:35.8631827;139.9758702
X-APPLE-STRUCTURED-LOCATION;VALUE=URI;X-ADDRESS=アミュゼ柏 千葉県柏市柏６丁目２−２２ 柏市柏６丁目２−２２ 千葉県 2770005 日本;X-APPLE-RADIUS=500;X-TITLE=千葉県柏市柏６丁目２−２２:geo:139.9758702,35.8631827
END:VEVENT
BEGIN:VEVENT
DTSTART;TZID=Asia/Tokyo:20260731T180000
DTEND;TZID=Asia/Tokyo:20260731T220000
DTSTAMP:20260420T150250
CREATED:20230812T150641Z
LAST-MODIFIED:20230812T150641Z
UID:10000310-1785520800-1785535200@7buddy.com
SUMMARY:アドラー心理学に学ぶ「悩みを解消する“承認欲求との向き合い方”」
DESCRIPTION:アドラー心理学から、承認欲求の問題点と、人間関係の悩みを解消できる「適切な承認欲求との向き合い方」を学べる勉強会です
URL:https://7buddy.com/community/event/ad01/2026-07-31/
LOCATION:アミュゼ柏\, 千葉県柏市柏６丁目２−２２\, 柏市柏６丁目２−２２\, 千葉県\, 2770005\, 日本
CATEGORIES:心理学
ATTACH;FMTTYPE=image/jpeg:https://7buddy.com/community/wp-content/uploads/2023/08/1_DIpg-kS0ZbdJ9XxThTp4kw.jpg
ORGANIZER;CN="7seconds":MAILTO:info@7seconds.jp
GEO:35.8631827;139.9758702
X-APPLE-STRUCTURED-LOCATION;VALUE=URI;X-ADDRESS=アミュゼ柏 千葉県柏市柏６丁目２−２２ 柏市柏６丁目２−２２ 千葉県 2770005 日本;X-APPLE-RADIUS=500;X-TITLE=千葉県柏市柏６丁目２−２２:geo:139.9758702,35.8631827
END:VEVENT
BEGIN:VEVENT
DTSTART;TZID=Asia/Tokyo:20260804T180000
DTEND;TZID=Asia/Tokyo:20260804T220000
DTSTAMP:20260420T150250
CREATED:20230812T150641Z
LAST-MODIFIED:20230812T150641Z
UID:10000311-1785866400-1785880800@7buddy.com
SUMMARY:アドラー心理学に学ぶ「悩みを解消する“承認欲求との向き合い方”」
DESCRIPTION:アドラー心理学から、承認欲求の問題点と、人間関係の悩みを解消できる「適切な承認欲求との向き合い方」を学べる勉強会です
URL:https://7buddy.com/community/event/ad01/2026-08-04/
LOCATION:アミュゼ柏\, 千葉県柏市柏６丁目２−２２\, 柏市柏６丁目２−２２\, 千葉県\, 2770005\, 日本
CATEGORIES:心理学
ATTACH;FMTTYPE=image/jpeg:https://7buddy.com/community/wp-content/uploads/2023/08/1_DIpg-kS0ZbdJ9XxThTp4kw.jpg
ORGANIZER;CN="7seconds":MAILTO:info@7seconds.jp
GEO:35.8631827;139.9758702
X-APPLE-STRUCTURED-LOCATION;VALUE=URI;X-ADDRESS=アミュゼ柏 千葉県柏市柏６丁目２−２２ 柏市柏６丁目２−２２ 千葉県 2770005 日本;X-APPLE-RADIUS=500;X-TITLE=千葉県柏市柏６丁目２−２２:geo:139.9758702,35.8631827
END:VEVENT
BEGIN:VEVENT
DTSTART;TZID=Asia/Tokyo:20260807T180000
DTEND;TZID=Asia/Tokyo:20260807T220000
DTSTAMP:20260420T150250
CREATED:20230812T150641Z
LAST-MODIFIED:20230812T150641Z
UID:10000312-1786125600-1786140000@7buddy.com
SUMMARY:アドラー心理学に学ぶ「悩みを解消する“承認欲求との向き合い方”」
DESCRIPTION:アドラー心理学から、承認欲求の問題点と、人間関係の悩みを解消できる「適切な承認欲求との向き合い方」を学べる勉強会です
URL:https://7buddy.com/community/event/ad01/2026-08-07/
LOCATION:アミュゼ柏\, 千葉県柏市柏６丁目２−２２\, 柏市柏６丁目２−２２\, 千葉県\, 2770005\, 日本
CATEGORIES:心理学
ATTACH;FMTTYPE=image/jpeg:https://7buddy.com/community/wp-content/uploads/2023/08/1_DIpg-kS0ZbdJ9XxThTp4kw.jpg
ORGANIZER;CN="7seconds":MAILTO:info@7seconds.jp
GEO:35.8631827;139.9758702
X-APPLE-STRUCTURED-LOCATION;VALUE=URI;X-ADDRESS=アミュゼ柏 千葉県柏市柏６丁目２−２２ 柏市柏６丁目２−２２ 千葉県 2770005 日本;X-APPLE-RADIUS=500;X-TITLE=千葉県柏市柏６丁目２−２２:geo:139.9758702,35.8631827
END:VEVENT
BEGIN:VEVENT
DTSTART;TZID=Asia/Tokyo:20260811T180000
DTEND;TZID=Asia/Tokyo:20260811T220000
DTSTAMP:20260420T150250
CREATED:20230812T150641Z
LAST-MODIFIED:20230812T150641Z
UID:10000313-1786471200-1786485600@7buddy.com
SUMMARY:アドラー心理学に学ぶ「悩みを解消する“承認欲求との向き合い方”」
DESCRIPTION:アドラー心理学から、承認欲求の問題点と、人間関係の悩みを解消できる「適切な承認欲求との向き合い方」を学べる勉強会です
URL:https://7buddy.com/community/event/ad01/2026-08-11/
LOCATION:アミュゼ柏\, 千葉県柏市柏６丁目２−２２\, 柏市柏６丁目２−２２\, 千葉県\, 2770005\, 日本
CATEGORIES:心理学
ATTACH;FMTTYPE=image/jpeg:https://7buddy.com/community/wp-content/uploads/2023/08/1_DIpg-kS0ZbdJ9XxThTp4kw.jpg
ORGANIZER;CN="7seconds":MAILTO:info@7seconds.jp
GEO:35.8631827;139.9758702
X-APPLE-STRUCTURED-LOCATION;VALUE=URI;X-ADDRESS=アミュゼ柏 千葉県柏市柏６丁目２−２２ 柏市柏６丁目２−２２ 千葉県 2770005 日本;X-APPLE-RADIUS=500;X-TITLE=千葉県柏市柏６丁目２−２２:geo:139.9758702,35.8631827
END:VEVENT
BEGIN:VEVENT
DTSTART;TZID=Asia/Tokyo:20260814T180000
DTEND;TZID=Asia/Tokyo:20260814T220000
DTSTAMP:20260420T150250
CREATED:20230812T150641Z
LAST-MODIFIED:20230812T150641Z
UID:10000314-1786730400-1786744800@7buddy.com
SUMMARY:アドラー心理学に学ぶ「悩みを解消する“承認欲求との向き合い方”」
DESCRIPTION:アドラー心理学から、承認欲求の問題点と、人間関係の悩みを解消できる「適切な承認欲求との向き合い方」を学べる勉強会です
URL:https://7buddy.com/community/event/ad01/2026-08-14/
LOCATION:アミュゼ柏\, 千葉県柏市柏６丁目２−２２\, 柏市柏６丁目２−２２\, 千葉県\, 2770005\, 日本
CATEGORIES:心理学
ATTACH;FMTTYPE=image/jpeg:https://7buddy.com/community/wp-content/uploads/2023/08/1_DIpg-kS0ZbdJ9XxThTp4kw.jpg
ORGANIZER;CN="7seconds":MAILTO:info@7seconds.jp
GEO:35.8631827;139.9758702
X-APPLE-STRUCTURED-LOCATION;VALUE=URI;X-ADDRESS=アミュゼ柏 千葉県柏市柏６丁目２−２２ 柏市柏６丁目２−２２ 千葉県 2770005 日本;X-APPLE-RADIUS=500;X-TITLE=千葉県柏市柏６丁目２−２２:geo:139.9758702,35.8631827
END:VEVENT
BEGIN:VEVENT
DTSTART;TZID=Asia/Tokyo:20260818T180000
DTEND;TZID=Asia/Tokyo:20260818T220000
DTSTAMP:20260420T150250
CREATED:20230812T150641Z
LAST-MODIFIED:20230812T150641Z
UID:10000315-1787076000-1787090400@7buddy.com
SUMMARY:アドラー心理学に学ぶ「悩みを解消する“承認欲求との向き合い方”」
DESCRIPTION:アドラー心理学から、承認欲求の問題点と、人間関係の悩みを解消できる「適切な承認欲求との向き合い方」を学べる勉強会です
URL:https://7buddy.com/community/event/ad01/2026-08-18/
LOCATION:アミュゼ柏\, 千葉県柏市柏６丁目２−２２\, 柏市柏６丁目２−２２\, 千葉県\, 2770005\, 日本
CATEGORIES:心理学
ATTACH;FMTTYPE=image/jpeg:https://7buddy.com/community/wp-content/uploads/2023/08/1_DIpg-kS0ZbdJ9XxThTp4kw.jpg
ORGANIZER;CN="7seconds":MAILTO:info@7seconds.jp
GEO:35.8631827;139.9758702
X-APPLE-STRUCTURED-LOCATION;VALUE=URI;X-ADDRESS=アミュゼ柏 千葉県柏市柏６丁目２−２２ 柏市柏６丁目２−２２ 千葉県 2770005 日本;X-APPLE-RADIUS=500;X-TITLE=千葉県柏市柏６丁目２−２２:geo:139.9758702,35.8631827
END:VEVENT
BEGIN:VEVENT
DTSTART;TZID=Asia/Tokyo:20260821T180000
DTEND;TZID=Asia/Tokyo:20260821T220000
DTSTAMP:20260420T150250
CREATED:20230812T150641Z
LAST-MODIFIED:20230812T150641Z
UID:10000316-1787335200-1787349600@7buddy.com
SUMMARY:アドラー心理学に学ぶ「悩みを解消する“承認欲求との向き合い方”」
DESCRIPTION:アドラー心理学から、承認欲求の問題点と、人間関係の悩みを解消できる「適切な承認欲求との向き合い方」を学べる勉強会です
URL:https://7buddy.com/community/event/ad01/2026-08-21/
LOCATION:アミュゼ柏\, 千葉県柏市柏６丁目２−２２\, 柏市柏６丁目２−２２\, 千葉県\, 2770005\, 日本
CATEGORIES:心理学
ATTACH;FMTTYPE=image/jpeg:https://7buddy.com/community/wp-content/uploads/2023/08/1_DIpg-kS0ZbdJ9XxThTp4kw.jpg
ORGANIZER;CN="7seconds":MAILTO:info@7seconds.jp
GEO:35.8631827;139.9758702
X-APPLE-STRUCTURED-LOCATION;VALUE=URI;X-ADDRESS=アミュゼ柏 千葉県柏市柏６丁目２−２２ 柏市柏６丁目２−２２ 千葉県 2770005 日本;X-APPLE-RADIUS=500;X-TITLE=千葉県柏市柏６丁目２−２２:geo:139.9758702,35.8631827
END:VEVENT
BEGIN:VEVENT
DTSTART;TZID=Asia/Tokyo:20260825T180000
DTEND;TZID=Asia/Tokyo:20260825T220000
DTSTAMP:20260420T150250
CREATED:20230812T150641Z
LAST-MODIFIED:20230812T150641Z
UID:10000317-1787680800-1787695200@7buddy.com
SUMMARY:アドラー心理学に学ぶ「悩みを解消する“承認欲求との向き合い方”」
DESCRIPTION:アドラー心理学から、承認欲求の問題点と、人間関係の悩みを解消できる「適切な承認欲求との向き合い方」を学べる勉強会です
URL:https://7buddy.com/community/event/ad01/2026-08-25/
LOCATION:アミュゼ柏\, 千葉県柏市柏６丁目２−２２\, 柏市柏６丁目２−２２\, 千葉県\, 2770005\, 日本
CATEGORIES:心理学
ATTACH;FMTTYPE=image/jpeg:https://7buddy.com/community/wp-content/uploads/2023/08/1_DIpg-kS0ZbdJ9XxThTp4kw.jpg
ORGANIZER;CN="7seconds":MAILTO:info@7seconds.jp
GEO:35.8631827;139.9758702
X-APPLE-STRUCTURED-LOCATION;VALUE=URI;X-ADDRESS=アミュゼ柏 千葉県柏市柏６丁目２−２２ 柏市柏６丁目２−２２ 千葉県 2770005 日本;X-APPLE-RADIUS=500;X-TITLE=千葉県柏市柏６丁目２−２２:geo:139.9758702,35.8631827
END:VEVENT
BEGIN:VEVENT
DTSTART;TZID=Asia/Tokyo:20260828T180000
DTEND;TZID=Asia/Tokyo:20260828T220000
DTSTAMP:20260420T150250
CREATED:20230812T150641Z
LAST-MODIFIED:20230812T150641Z
UID:10000318-1787940000-1787954400@7buddy.com
SUMMARY:アドラー心理学に学ぶ「悩みを解消する“承認欲求との向き合い方”」
DESCRIPTION:アドラー心理学から、承認欲求の問題点と、人間関係の悩みを解消できる「適切な承認欲求との向き合い方」を学べる勉強会です
URL:https://7buddy.com/community/event/ad01/2026-08-28/
LOCATION:アミュゼ柏\, 千葉県柏市柏６丁目２−２２\, 柏市柏６丁目２−２２\, 千葉県\, 2770005\, 日本
CATEGORIES:心理学
ATTACH;FMTTYPE=image/jpeg:https://7buddy.com/community/wp-content/uploads/2023/08/1_DIpg-kS0ZbdJ9XxThTp4kw.jpg
ORGANIZER;CN="7seconds":MAILTO:info@7seconds.jp
GEO:35.8631827;139.9758702
X-APPLE-STRUCTURED-LOCATION;VALUE=URI;X-ADDRESS=アミュゼ柏 千葉県柏市柏６丁目２−２２ 柏市柏６丁目２−２２ 千葉県 2770005 日本;X-APPLE-RADIUS=500;X-TITLE=千葉県柏市柏６丁目２−２２:geo:139.9758702,35.8631827
END:VEVENT
BEGIN:VEVENT
DTSTART;TZID=Asia/Tokyo:20260901T180000
DTEND;TZID=Asia/Tokyo:20260901T220000
DTSTAMP:20260420T150250
CREATED:20230812T150641Z
LAST-MODIFIED:20230812T150641Z
UID:10000319-1788285600-1788300000@7buddy.com
SUMMARY:アドラー心理学に学ぶ「悩みを解消する“承認欲求との向き合い方”」
DESCRIPTION:アドラー心理学から、承認欲求の問題点と、人間関係の悩みを解消できる「適切な承認欲求との向き合い方」を学べる勉強会です
URL:https://7buddy.com/community/event/ad01/2026-09-01/
LOCATION:アミュゼ柏\, 千葉県柏市柏６丁目２−２２\, 柏市柏６丁目２−２２\, 千葉県\, 2770005\, 日本
CATEGORIES:心理学
ATTACH;FMTTYPE=image/jpeg:https://7buddy.com/community/wp-content/uploads/2023/08/1_DIpg-kS0ZbdJ9XxThTp4kw.jpg
ORGANIZER;CN="7seconds":MAILTO:info@7seconds.jp
GEO:35.8631827;139.9758702
X-APPLE-STRUCTURED-LOCATION;VALUE=URI;X-ADDRESS=アミュゼ柏 千葉県柏市柏６丁目２−２２ 柏市柏６丁目２−２２ 千葉県 2770005 日本;X-APPLE-RADIUS=500;X-TITLE=千葉県柏市柏６丁目２−２２:geo:139.9758702,35.8631827
END:VEVENT
BEGIN:VEVENT
DTSTART;TZID=Asia/Tokyo:20260904T180000
DTEND;TZID=Asia/Tokyo:20260904T220000
DTSTAMP:20260420T150250
CREATED:20230812T150641Z
LAST-MODIFIED:20230812T150641Z
UID:10000320-1788544800-1788559200@7buddy.com
SUMMARY:アドラー心理学に学ぶ「悩みを解消する“承認欲求との向き合い方”」
DESCRIPTION:アドラー心理学から、承認欲求の問題点と、人間関係の悩みを解消できる「適切な承認欲求との向き合い方」を学べる勉強会です
URL:https://7buddy.com/community/event/ad01/2026-09-04/
LOCATION:アミュゼ柏\, 千葉県柏市柏６丁目２−２２\, 柏市柏６丁目２−２２\, 千葉県\, 2770005\, 日本
CATEGORIES:心理学
ATTACH;FMTTYPE=image/jpeg:https://7buddy.com/community/wp-content/uploads/2023/08/1_DIpg-kS0ZbdJ9XxThTp4kw.jpg
ORGANIZER;CN="7seconds":MAILTO:info@7seconds.jp
GEO:35.8631827;139.9758702
X-APPLE-STRUCTURED-LOCATION;VALUE=URI;X-ADDRESS=アミュゼ柏 千葉県柏市柏６丁目２−２２ 柏市柏６丁目２−２２ 千葉県 2770005 日本;X-APPLE-RADIUS=500;X-TITLE=千葉県柏市柏６丁目２−２２:geo:139.9758702,35.8631827
END:VEVENT
BEGIN:VEVENT
DTSTART;TZID=Asia/Tokyo:20260908T180000
DTEND;TZID=Asia/Tokyo:20260908T220000
DTSTAMP:20260420T150250
CREATED:20230812T150641Z
LAST-MODIFIED:20230812T150641Z
UID:10000321-1788890400-1788904800@7buddy.com
SUMMARY:アドラー心理学に学ぶ「悩みを解消する“承認欲求との向き合い方”」
DESCRIPTION:アドラー心理学から、承認欲求の問題点と、人間関係の悩みを解消できる「適切な承認欲求との向き合い方」を学べる勉強会です
URL:https://7buddy.com/community/event/ad01/2026-09-08/
LOCATION:アミュゼ柏\, 千葉県柏市柏６丁目２−２２\, 柏市柏６丁目２−２２\, 千葉県\, 2770005\, 日本
CATEGORIES:心理学
ATTACH;FMTTYPE=image/jpeg:https://7buddy.com/community/wp-content/uploads/2023/08/1_DIpg-kS0ZbdJ9XxThTp4kw.jpg
ORGANIZER;CN="7seconds":MAILTO:info@7seconds.jp
GEO:35.8631827;139.9758702
X-APPLE-STRUCTURED-LOCATION;VALUE=URI;X-ADDRESS=アミュゼ柏 千葉県柏市柏６丁目２−２２ 柏市柏６丁目２−２２ 千葉県 2770005 日本;X-APPLE-RADIUS=500;X-TITLE=千葉県柏市柏６丁目２−２２:geo:139.9758702,35.8631827
END:VEVENT
BEGIN:VEVENT
DTSTART;TZID=Asia/Tokyo:20260911T180000
DTEND;TZID=Asia/Tokyo:20260911T220000
DTSTAMP:20260420T150250
CREATED:20230812T150641Z
LAST-MODIFIED:20230812T150641Z
UID:10000322-1789149600-1789164000@7buddy.com
SUMMARY:アドラー心理学に学ぶ「悩みを解消する“承認欲求との向き合い方”」
DESCRIPTION:アドラー心理学から、承認欲求の問題点と、人間関係の悩みを解消できる「適切な承認欲求との向き合い方」を学べる勉強会です
URL:https://7buddy.com/community/event/ad01/2026-09-11/
LOCATION:アミュゼ柏\, 千葉県柏市柏６丁目２−２２\, 柏市柏６丁目２−２２\, 千葉県\, 2770005\, 日本
CATEGORIES:心理学
ATTACH;FMTTYPE=image/jpeg:https://7buddy.com/community/wp-content/uploads/2023/08/1_DIpg-kS0ZbdJ9XxThTp4kw.jpg
ORGANIZER;CN="7seconds":MAILTO:info@7seconds.jp
GEO:35.8631827;139.9758702
X-APPLE-STRUCTURED-LOCATION;VALUE=URI;X-ADDRESS=アミュゼ柏 千葉県柏市柏６丁目２−２２ 柏市柏６丁目２−２２ 千葉県 2770005 日本;X-APPLE-RADIUS=500;X-TITLE=千葉県柏市柏６丁目２−２２:geo:139.9758702,35.8631827
END:VEVENT
BEGIN:VEVENT
DTSTART;TZID=Asia/Tokyo:20260915T180000
DTEND;TZID=Asia/Tokyo:20260915T220000
DTSTAMP:20260420T150250
CREATED:20230812T150641Z
LAST-MODIFIED:20230812T150641Z
UID:10000323-1789495200-1789509600@7buddy.com
SUMMARY:アドラー心理学に学ぶ「悩みを解消する“承認欲求との向き合い方”」
DESCRIPTION:アドラー心理学から、承認欲求の問題点と、人間関係の悩みを解消できる「適切な承認欲求との向き合い方」を学べる勉強会です
URL:https://7buddy.com/community/event/ad01/2026-09-15/
LOCATION:アミュゼ柏\, 千葉県柏市柏６丁目２−２２\, 柏市柏６丁目２−２２\, 千葉県\, 2770005\, 日本
CATEGORIES:心理学
ATTACH;FMTTYPE=image/jpeg:https://7buddy.com/community/wp-content/uploads/2023/08/1_DIpg-kS0ZbdJ9XxThTp4kw.jpg
ORGANIZER;CN="7seconds":MAILTO:info@7seconds.jp
GEO:35.8631827;139.9758702
X-APPLE-STRUCTURED-LOCATION;VALUE=URI;X-ADDRESS=アミュゼ柏 千葉県柏市柏６丁目２−２２ 柏市柏６丁目２−２２ 千葉県 2770005 日本;X-APPLE-RADIUS=500;X-TITLE=千葉県柏市柏６丁目２−２２:geo:139.9758702,35.8631827
END:VEVENT
BEGIN:VEVENT
DTSTART;TZID=Asia/Tokyo:20260918T180000
DTEND;TZID=Asia/Tokyo:20260918T220000
DTSTAMP:20260420T150250
CREATED:20230812T150641Z
LAST-MODIFIED:20230812T150641Z
UID:10000324-1789754400-1789768800@7buddy.com
SUMMARY:アドラー心理学に学ぶ「悩みを解消する“承認欲求との向き合い方”」
DESCRIPTION:アドラー心理学から、承認欲求の問題点と、人間関係の悩みを解消できる「適切な承認欲求との向き合い方」を学べる勉強会です
URL:https://7buddy.com/community/event/ad01/2026-09-18/
LOCATION:アミュゼ柏\, 千葉県柏市柏６丁目２−２２\, 柏市柏６丁目２−２２\, 千葉県\, 2770005\, 日本
CATEGORIES:心理学
ATTACH;FMTTYPE=image/jpeg:https://7buddy.com/community/wp-content/uploads/2023/08/1_DIpg-kS0ZbdJ9XxThTp4kw.jpg
ORGANIZER;CN="7seconds":MAILTO:info@7seconds.jp
GEO:35.8631827;139.9758702
X-APPLE-STRUCTURED-LOCATION;VALUE=URI;X-ADDRESS=アミュゼ柏 千葉県柏市柏６丁目２−２２ 柏市柏６丁目２−２２ 千葉県 2770005 日本;X-APPLE-RADIUS=500;X-TITLE=千葉県柏市柏６丁目２−２２:geo:139.9758702,35.8631827
END:VEVENT
END:VCALENDAR