BEGIN:VCALENDAR
VERSION:2.0
PRODID:-//有料会員制サイト - ECPv6.10.3//NONSGML v1.0//EN
CALSCALE:GREGORIAN
METHOD:PUBLISH
X-ORIGINAL-URL:https://7buddy.com/network
X-WR-CALDESC:有料会員制サイト のイベント
REFRESH-INTERVAL;VALUE=DURATION:PT1H
X-Robots-Tag:noindex
X-PUBLISHED-TTL:PT1H
BEGIN:VTIMEZONE
TZID:UTC
BEGIN:STANDARD
TZOFFSETFROM:+0000
TZOFFSETTO:+0000
TZNAME:UTC
DTSTART:20240101T000000
END:STANDARD
END:VTIMEZONE
BEGIN:VEVENT
DTSTART;TZID=UTC:20241108T080000
DTEND;TZID=UTC:20241108T170000
DTSTAMP:20260422T011700
CREATED:20231120T000205Z
LAST-MODIFIED:20240506T234902Z
UID:1000009584-1731052800-1731085200@7buddy.com
SUMMARY:自家製チーズ作り教室
DESCRIPTION:Learn how to make gourmet cheeses right from your own home! This class will be a hybrid (virtual and in person). The virtual class will focus on the history of cheese making\, equipment and tools needs\, how to know if your cheese is ready\, and much more. Then we will meet to apply what you’ve learned by making four cheeses which you can take home and enjoy! \nKey Info\nSuspendisse bibendum feugiat magna tincidunt vulputate. Sed sapien velit\, egestas vehicula augue a\, porta luctus dui. Nam non diam eu sem lacinia dignissim. \n\nMauris posuere tellus in justo viverra\nEget congue nisi venenatis\nMaecenas fringilla eu nunc in aliquam\nFusce at mi non lorem efficitur aliquet\n\nMorbi interdum tortor eu pretium viverra. Fusce convallis\, nisl nec sagittis blandit\, massa nisi consequat nunc\, at sollicitudin enim ante sed urna. Quisque vitae urna dui. \nThings To Do\nPellentesque et arcu imperdiet\, finibus quam id\, finibus dui. Suspendisse sed aliquam purus. Phasellus scelerisque cursus nibh\, varius egestas eros faucibus in. Orci varius natoque penatibus et magnis dis parturient montes\, nascetur ridiculus mus. Sed et odio quis nisi vulputate euismod in at magna. Integer vel mi nibh. Donec placerat nisi ac eleifend rhoncus. Suspendisse egestas condimentum tellus\, eu congue dui fermentum in. \nNullam tempus ultrices mi\, a sollicitudin dolor condimentum id. Interdum et malesuada fames ac ante ipsum primis in faucibus. Quisque et tempor leo\, ullamcorper facilisis justo. Suspendisse potenti. Quisque sed enim vitae elit maximus laoreet. Morbi id egestas lectus. Integer eleifend bibendum nisl. Vestibulum venenatis urna augue\, ac bibendum odio tempor non. In sed accumsan mauris. Praesent in dignissim urna.
URL:https://7buddy.com/network/event/home-made-cheese-making-class/
LOCATION:California
ATTACH;FMTTYPE=image/jpeg:https://7buddy.com/network/wp-content/uploads/2024/02/dummy-image.jpg
ORGANIZER;CN="ABC Cooking School":MAILTO:organizer@example.com
END:VEVENT
END:VCALENDAR